BEGIN:VCALENDAR
VERSION:2.0
PRODID:-//CGT Ensenyament - ECPv6.15.20//NONSGML v1.0//EN
CALSCALE:GREGORIAN
METHOD:PUBLISH
X-WR-CALNAME:CGT Ensenyament
X-ORIGINAL-URL:https://www.cgtensenyament.cat
X-WR-CALDESC:Esdeveniments per CGT Ensenyament
REFRESH-INTERVAL;VALUE=DURATION:PT1H
X-Robots-Tag:noindex
X-PUBLISHED-TTL:PT1H
BEGIN:VTIMEZONE
TZID:Europe/Madrid
BEGIN:DAYLIGHT
TZOFFSETFROM:+0100
TZOFFSETTO:+0200
TZNAME:CEST
DTSTART:20210328T010000
END:DAYLIGHT
BEGIN:STANDARD
TZOFFSETFROM:+0200
TZOFFSETTO:+0100
TZNAME:CET
DTSTART:20211031T010000
END:STANDARD
BEGIN:DAYLIGHT
TZOFFSETFROM:+0100
TZOFFSETTO:+0200
TZNAME:CEST
DTSTART:20220327T010000
END:DAYLIGHT
BEGIN:STANDARD
TZOFFSETFROM:+0200
TZOFFSETTO:+0100
TZNAME:CET
DTSTART:20221030T010000
END:STANDARD
BEGIN:DAYLIGHT
TZOFFSETFROM:+0100
TZOFFSETTO:+0200
TZNAME:CEST
DTSTART:20230326T010000
END:DAYLIGHT
BEGIN:STANDARD
TZOFFSETFROM:+0200
TZOFFSETTO:+0100
TZNAME:CET
DTSTART:20231029T010000
END:STANDARD
END:VTIMEZONE
BEGIN:VEVENT
DTSTART;TZID=Europe/Madrid:20220430T100000
DTEND;TZID=Europe/Madrid:20220430T120000
DTSTAMP:20260426T003226
CREATED:20220426T084105Z
LAST-MODIFIED:20220426T084349Z
UID:26335-1651312800-1651320000@www.cgtensenyament.cat
SUMMARY:Assemblea de coordinació de treballadores d'Educació de Barcelona i rodalies
DESCRIPTION:Assemblea de coordinació de treballadores d’Educació de Barcelona i rodalies \nOrganitzem les properes accions \nDissabte 30 d’abril 2022\, 10.00h \nCasa de la Solidaritat\nc/ de Vistalegre\, 15\nBarcelona
URL:https://www.cgtensenyament.cat/event/assemblea-coordinacio-treballadores-educacio-barcelona-rodalies/
LOCATION:Casa de la Solidaritat\, c/ de Vistalegre\, 15\, Barcelona\, Barcelona\, 08001
CATEGORIES:Assemblea,Reunió,Trobada
ATTACH;FMTTYPE=image/jpeg:https://www.cgtensenyament.cat/wp-content/uploads/2022/04/educacio-barcelona-30abril2022.jpg
END:VEVENT
END:VCALENDAR