BEGIN:VCALENDAR
VERSION:2.0
PRODID:-//CGT Ensenyament - ECPv6.15.20//NONSGML v1.0//EN
CALSCALE:GREGORIAN
METHOD:PUBLISH
X-ORIGINAL-URL:https://www.cgtensenyament.cat
X-WR-CALDESC:Esdeveniments per CGT Ensenyament
REFRESH-INTERVAL;VALUE=DURATION:PT1H
X-Robots-Tag:noindex
X-PUBLISHED-TTL:PT1H
BEGIN:VTIMEZONE
TZID:Europe/Madrid
BEGIN:DAYLIGHT
TZOFFSETFROM:+0100
TZOFFSETTO:+0200
TZNAME:CEST
DTSTART:20210328T010000
END:DAYLIGHT
BEGIN:STANDARD
TZOFFSETFROM:+0200
TZOFFSETTO:+0100
TZNAME:CET
DTSTART:20211031T010000
END:STANDARD
BEGIN:DAYLIGHT
TZOFFSETFROM:+0100
TZOFFSETTO:+0200
TZNAME:CEST
DTSTART:20220327T010000
END:DAYLIGHT
BEGIN:STANDARD
TZOFFSETFROM:+0200
TZOFFSETTO:+0100
TZNAME:CET
DTSTART:20221030T010000
END:STANDARD
BEGIN:DAYLIGHT
TZOFFSETFROM:+0100
TZOFFSETTO:+0200
TZNAME:CEST
DTSTART:20230326T010000
END:DAYLIGHT
BEGIN:STANDARD
TZOFFSETFROM:+0200
TZOFFSETTO:+0100
TZNAME:CET
DTSTART:20231029T010000
END:STANDARD
END:VTIMEZONE
BEGIN:VEVENT
DTSTART;TZID=Europe/Madrid:20221027T123000
DTEND;TZID=Europe/Madrid:20221027T140000
DTSTAMP:20260425T155522
CREATED:20221018T094640Z
LAST-MODIFIED:20221111T210611Z
UID:28578-1666873800-1666879200@www.cgtensenyament.cat
SUMMARY:Assemblea Doctorand@s en Lluita\, a la UAB
DESCRIPTION:És inacceptable que per fer una tesi hi hagi gent amb 3 anys de contracte i gent amb 4. \nAl 2019 vam aconseguir 4 anys per a totes i ara ho podem tornar a fer. \nVeniu el 27 d’octubre a les 13.30h a la cívica i ens organitzem?\nA igual treball\, mateixes condicions! \n@DocsLluita \n  \n \n \n 
URL:https://www.cgtensenyament.cat/event/assemblea-doctorands-en-lluita-a-la-uab/
LOCATION:Plaça Cívica\, UAB\, UAB\, Cerdanyola del Vallès\, Barcelona\, 08193
CATEGORIES:Assemblea,Reunió
ATTACH;FMTTYPE=image/jpeg:https://www.cgtensenyament.cat/wp-content/uploads/2022/10/assemblea-docenlluita-27oct2022.jpg
ORGANIZER;CN="Doctorand@s en Lluita":MAILTO:colectiudoctorands@gmail.com
END:VEVENT
END:VCALENDAR