BEGIN:VCALENDAR
VERSION:2.0
PRODID:-//CGT Ensenyament - ECPv6.15.20//NONSGML v1.0//EN
CALSCALE:GREGORIAN
METHOD:PUBLISH
X-ORIGINAL-URL:https://www.cgtensenyament.cat
X-WR-CALDESC:Esdeveniments per CGT Ensenyament
REFRESH-INTERVAL;VALUE=DURATION:PT1H
X-Robots-Tag:noindex
X-PUBLISHED-TTL:PT1H
BEGIN:VTIMEZONE
TZID:Europe/Madrid
BEGIN:DAYLIGHT
TZOFFSETFROM:+0100
TZOFFSETTO:+0200
TZNAME:CEST
DTSTART:20210328T010000
END:DAYLIGHT
BEGIN:STANDARD
TZOFFSETFROM:+0200
TZOFFSETTO:+0100
TZNAME:CET
DTSTART:20211031T010000
END:STANDARD
BEGIN:DAYLIGHT
TZOFFSETFROM:+0100
TZOFFSETTO:+0200
TZNAME:CEST
DTSTART:20220327T010000
END:DAYLIGHT
BEGIN:STANDARD
TZOFFSETFROM:+0200
TZOFFSETTO:+0100
TZNAME:CET
DTSTART:20221030T010000
END:STANDARD
BEGIN:DAYLIGHT
TZOFFSETFROM:+0100
TZOFFSETTO:+0200
TZNAME:CEST
DTSTART:20230326T010000
END:DAYLIGHT
BEGIN:STANDARD
TZOFFSETFROM:+0200
TZOFFSETTO:+0100
TZNAME:CET
DTSTART:20231029T010000
END:STANDARD
END:VTIMEZONE
BEGIN:VEVENT
DTSTART;TZID=Europe/Madrid:20220112T124500
DTEND;TZID=Europe/Madrid:20220112T140000
DTSTAMP:20260425T051521
CREATED:20220109T000304Z
LAST-MODIFIED:20220120T090305Z
UID:24181-1641991500-1641996000@www.cgtensenyament.cat
SUMMARY:Assemblea de Zona Baix Vallès Gener
DESCRIPTION:Zona Baix Vallès (Badia\, Barberà\, Cerdanyola\, Montcada i Ripollet)\nHora: 12.45h \nLloc* – https://meet.jit.si/AssembleaZonaBaixValles
URL:https://www.cgtensenyament.cat/event/assemblea-de-zona-baix-valles-gener/
LOCATION:Barcelona
CATEGORIES:Assemblea
ATTACH;FMTTYPE=image/png:https://www.cgtensenyament.cat/wp-content/uploads/2021/02/Zona-Baix-Valles.png
END:VEVENT
BEGIN:VEVENT
DTSTART;TZID=Europe/Madrid:20220112T124500
DTEND;TZID=Europe/Madrid:20220112T140000
DTSTAMP:20260425T051521
CREATED:20220109T003003Z
LAST-MODIFIED:20220120T090257Z
UID:24194-1641991500-1641996000@www.cgtensenyament.cat
SUMMARY:Assemblea de Zona Sabadell Gener
DESCRIPTION:Zona Sabadell\nHora: 12.45h \nLloc* – https://meet.jit.si/AssembleaZonaSabadell
URL:https://www.cgtensenyament.cat/event/assemblea-de-zona-sabadell-gener/
LOCATION:Barcelona
CATEGORIES:Assemblea
ATTACH;FMTTYPE=image/png:https://www.cgtensenyament.cat/wp-content/uploads/2022/01/zona-Sabadell.png
END:VEVENT
BEGIN:VEVENT
DTSTART;TZID=Europe/Madrid:20220113T180000
DTEND;TZID=Europe/Madrid:20220113T200000
DTSTAMP:20260425T051521
CREATED:20220105T002420Z
LAST-MODIFIED:20220109T005355Z
UID:24170-1642096800-1642104000@www.cgtensenyament.cat
SUMMARY:Assemblea General Extraordinària Ensenyament Barcelona
DESCRIPTION:Assemblea  general extraordinària d’afiliades i afiliats del Sindicat Ensenyament de Barcelona \nDijous 13 de gener\, a les 18.00 h \nFederació Local de Barcelona\nc/ Pare Laínez\, 18 \nOrdre del dia i més info\, al teu email d’afiliació.
URL:https://www.cgtensenyament.cat/event/assemblea-general-extraordinaria-ensenyament-barcelona-2/
LOCATION:Federació Local de Barcelona\, c/ Pare Laínez\, 18\, Barcelona\, Barcelona
CATEGORIES:Assemblea
END:VEVENT
BEGIN:VEVENT
DTSTART;TZID=Europe/Madrid:20220117T124500
DTEND;TZID=Europe/Madrid:20220117T140000
DTSTAMP:20260425T051521
CREATED:20220109T004216Z
LAST-MODIFIED:20220120T090251Z
UID:24204-1642423500-1642428000@www.cgtensenyament.cat
SUMMARY:Assemblea de zona Rubí-Sant Cugat gener
DESCRIPTION:Zona Rubí – Sant Cugat\nHora: 12.45h \nLloc* – https://meet.jit.si/ZonaSindicalRubi
URL:https://www.cgtensenyament.cat/event/assemblea-de-zona-rubi-sant-cugat-gener/
LOCATION:Barcelona
CATEGORIES:Assemblea
ATTACH;FMTTYPE=image/png:https://www.cgtensenyament.cat/wp-content/uploads/2022/01/zona-Rubi-Sant-Cugat.png
END:VEVENT
BEGIN:VEVENT
DTSTART;TZID=Europe/Madrid:20220119T124500
DTEND;TZID=Europe/Madrid:20220119T140000
DTSTAMP:20260425T051521
CREATED:20220109T003642Z
LAST-MODIFIED:20220120T090244Z
UID:24199-1642596300-1642600800@www.cgtensenyament.cat
SUMMARY:Assemblea de zona Terrassa Gener
DESCRIPTION:Zona Terrassa\nHora: 12.45h \nLloc* – https://meet.jit.si/ZonaSindicalTerrassa
URL:https://www.cgtensenyament.cat/event/assemblea-de-zona-terrassa-gener/
LOCATION:Barcelona
CATEGORIES:Assemblea
ATTACH;FMTTYPE=image/png:https://www.cgtensenyament.cat/wp-content/uploads/2022/01/zona-Terrassa.png
END:VEVENT
BEGIN:VEVENT
DTSTART;TZID=Europe/Madrid:20220122T113000
DTEND;TZID=Europe/Madrid:20220122T133000
DTSTAMP:20260425T051521
CREATED:20220118T220631Z
LAST-MODIFIED:20220601T141108Z
UID:24461-1642851000-1642858200@www.cgtensenyament.cat
SUMMARY:Xerrada-debat Lluita interina a Barberà del Vallès
DESCRIPTION:Xerrada-debat La lluita de les interines i la defensa dels serveis públics amb Isabel Chacón\, José Luis González i Encarni Salguero \n📅 Dissabte 22 \n📍Ateneu de Barberà (St. Pere 4) #BarberàDelVallès \n⏰11:30 \n#LluitaInterina #LesQueHiSomEnsQuedem
URL:https://www.cgtensenyament.cat/event/xerrada-debat-lluita-interina-a-barbera-del-valles/
LOCATION:Ateneu de Barberà\, Sant Pere 4\, Barberà del Vallès
CATEGORIES:Xerrada
ATTACH;FMTTYPE=image/png:https://www.cgtensenyament.cat/wp-content/uploads/2022/01/Icetazo-Barbera.png
END:VEVENT
END:VCALENDAR