BEGIN:VCALENDAR
VERSION:2.0
PRODID:-//CGT Ensenyament - ECPv6.15.20//NONSGML v1.0//EN
CALSCALE:GREGORIAN
METHOD:PUBLISH
X-WR-CALNAME:CGT Ensenyament
X-ORIGINAL-URL:https://www.cgtensenyament.cat
X-WR-CALDESC:Esdeveniments per CGT Ensenyament
REFRESH-INTERVAL;VALUE=DURATION:PT1H
X-Robots-Tag:noindex
X-PUBLISHED-TTL:PT1H
BEGIN:VTIMEZONE
TZID:Europe/Madrid
BEGIN:DAYLIGHT
TZOFFSETFROM:+0100
TZOFFSETTO:+0200
TZNAME:CEST
DTSTART:20210328T010000
END:DAYLIGHT
BEGIN:STANDARD
TZOFFSETFROM:+0200
TZOFFSETTO:+0100
TZNAME:CET
DTSTART:20211031T010000
END:STANDARD
BEGIN:DAYLIGHT
TZOFFSETFROM:+0100
TZOFFSETTO:+0200
TZNAME:CEST
DTSTART:20220327T010000
END:DAYLIGHT
BEGIN:STANDARD
TZOFFSETFROM:+0200
TZOFFSETTO:+0100
TZNAME:CET
DTSTART:20221030T010000
END:STANDARD
BEGIN:DAYLIGHT
TZOFFSETFROM:+0100
TZOFFSETTO:+0200
TZNAME:CEST
DTSTART:20230326T010000
END:DAYLIGHT
BEGIN:STANDARD
TZOFFSETFROM:+0200
TZOFFSETTO:+0100
TZNAME:CET
DTSTART:20231029T010000
END:STANDARD
END:VTIMEZONE
BEGIN:VEVENT
DTSTART;TZID=Europe/Madrid:20220502T180000
DTEND;TZID=Europe/Madrid:20220502T200000
DTSTAMP:20260424T230901
CREATED:20220428T082040Z
LAST-MODIFIED:20220428T082040Z
UID:26500-1651514400-1651521600@www.cgtensenyament.cat
SUMMARY:Assemblea personal PAE (TEEI – EEE – TIS) Penedès-Garraf
DESCRIPTION: El personal PAE ens organitzem al Penedès-Garraf! \n Dilluns 2 de maig 18h \n Casal Popular la Gueralda (Vilafranca) \n Oberta a persones afiliades o amb el compromís d’afiliar-se \n Vine i participa! Fem sentir la nostra veu \n\nTE  si
URL:https://www.cgtensenyament.cat/event/assemblea-personal-pae-teei-eee-tis-penedes-garraf/
LOCATION:Casal Popular la Gueralda (Vilafranca)\, C/ Sant Raimon de Penyafort 1\, Vilafranca del Penedès
CATEGORIES:Assemblea
END:VEVENT
BEGIN:VEVENT
DTSTART;TZID=Europe/Madrid:20220509T124500
DTEND;TZID=Europe/Madrid:20220509T140000
DTSTAMP:20260424T230901
CREATED:20220109T004942Z
LAST-MODIFIED:20220426T072243Z
UID:24214-1652100300-1652104800@www.cgtensenyament.cat
SUMMARY:Assemblea de Zona Rubí-Sant Cugat Maig
DESCRIPTION:Zona Rubí – Sant Cugat\nHora: 12.45h \nLloc* – https://meet.jit.si/ZonaSindicalRubi
URL:https://www.cgtensenyament.cat/event/assemblea-de-zona-rubi-sant-cugat-maig/
LOCATION:Barcelona
CATEGORIES:Assemblea
ATTACH;FMTTYPE=image/png:https://www.cgtensenyament.cat/wp-content/uploads/2022/01/zona-Rubi-Sant-Cugat.png
END:VEVENT
BEGIN:VEVENT
DTSTART;TZID=Europe/Madrid:20220510T173000
DTEND;TZID=Europe/Madrid:20220510T193000
DTSTAMP:20260424T230901
CREATED:20220503T065830Z
LAST-MODIFIED:20220503T065905Z
UID:26553-1652203800-1652211000@www.cgtensenyament.cat
SUMMARY:Assemblea afiliació pública no universitària ensenyament sindicat BCN
DESCRIPTION:Assemblea extraordinària afiliació pública no universitària ensenyament sindicat BCN\n\n\n \n\n\n🗓 Dimarts 10 de maig – 17.30h\n\n\n \n\n\nParticipa i decideix!
URL:https://www.cgtensenyament.cat/event/26553/
LOCATION:Federació Local de Barcelona\, c/ Pare Laínez\, 18\, Barcelona\, Barcelona
CATEGORIES:Assemblea
ATTACH;FMTTYPE=image/png:https://www.cgtensenyament.cat/wp-content/uploads/2022/05/assemblea-23.png
END:VEVENT
BEGIN:VEVENT
DTSTART;TZID=Europe/Madrid:20220511T124500
DTEND;TZID=Europe/Madrid:20220511T140000
DTSTAMP:20260424T230901
CREATED:20220109T002317Z
LAST-MODIFIED:20220120T090103Z
UID:24191-1652273100-1652277600@www.cgtensenyament.cat
SUMMARY:Assemblea de Zona Baix Vallès Maig
DESCRIPTION:Zona Baix Vallès (Badia\, Barberà\, Cerdanyola\, Montcada i Ripollet)\nHora: 12.45h \nLloc* – https://meet.jit.si/AssembleaZonaBaixValles
URL:https://www.cgtensenyament.cat/event/assemblea-de-zona-baix-valles-maig/
LOCATION:Barcelona
CATEGORIES:Assemblea
ATTACH;FMTTYPE=image/png:https://www.cgtensenyament.cat/wp-content/uploads/2021/02/Zona-Baix-Valles.png
END:VEVENT
BEGIN:VEVENT
DTSTART;TZID=Europe/Madrid:20220511T124500
DTEND;TZID=Europe/Madrid:20220511T140000
DTSTAMP:20260424T230901
CREATED:20220109T010221Z
LAST-MODIFIED:20220120T090054Z
UID:24220-1652273100-1652277600@www.cgtensenyament.cat
SUMMARY:Assemblea de Zona Sabadell Maig
DESCRIPTION:Zona Sabadell\nHora: 12.45h \nLloc* – https://meet.jit.si/AssembleaZonaSabadell
URL:https://www.cgtensenyament.cat/event/assemblea-de-zona-sabadell-maig/
LOCATION:Barcelona
CATEGORIES:Assemblea
ATTACH;FMTTYPE=image/png:https://www.cgtensenyament.cat/wp-content/uploads/2022/01/zona-Sabadell.png
END:VEVENT
BEGIN:VEVENT
DTSTART;TZID=Europe/Madrid:20220511T173000
DTEND;TZID=Europe/Madrid:20220511T190000
DTSTAMP:20260424T230901
CREATED:20220508T210824Z
LAST-MODIFIED:20220508T210823Z
UID:26654-1652290200-1652295600@www.cgtensenyament.cat
SUMMARY:Trobada afiliació interina docent
DESCRIPTION:📅 Dimecres 11 de maig\n⏰ 17\,30h \nPer a l’afiliació: \nCGT Ensenyament Barcelona\nCGT Barcelona Comarques \nPresencialment a\n📌 C. Pare Lainez\, 18 \nEnllaç Telemàtic:\nhttps://meet.jit.si/interinescgt
URL:https://www.cgtensenyament.cat/event/trobada-afiliacio-interina-docent/
LOCATION:Federació Local de Barcelona\, c/ Pare Laínez\, 18\, Barcelona\, Barcelona
CATEGORIES:Reunió
ATTACH;FMTTYPE=image/jpeg:https://www.cgtensenyament.cat/wp-content/uploads/2022/05/photo_2022-05-08_23-11-38.jpg
END:VEVENT
BEGIN:VEVENT
DTSTART;TZID=Europe/Madrid:20220514T120000
DTEND;TZID=Europe/Madrid:20220514T170000
DTSTAMP:20260424T230901
CREATED:20220504T091230Z
LAST-MODIFIED:20220504T091230Z
UID:26587-1652529600-1652547600@www.cgtensenyament.cat
SUMMARY:Manifestació #14MperlaPública La comunitat educativa diu prou!
DESCRIPTION:#14MperlaPública La comunitat educativa diu prou!! Per una escola pública de qualitat  \n14 de maig  \n12h Pl. Universitat  \nManifestació\, dinar\, xerrades\, debat\, espai infantil\, concerts…
URL:https://www.cgtensenyament.cat/event/manifestacio-14mperlapublica-la-comunitat-educativa-diu-prou/
LOCATION:Plaça Universitat\, Plaça Universitat\, Barcelona
CATEGORIES:Manifestació
ATTACH;FMTTYPE=image/jpeg:https://www.cgtensenyament.cat/wp-content/uploads/2022/05/14Mperlapublica.jpg
END:VEVENT
BEGIN:VEVENT
DTSTART;TZID=Europe/Madrid:20220516T183000
DTEND;TZID=Europe/Madrid:20220516T200000
DTSTAMP:20260424T230901
CREATED:20220506T210900Z
LAST-MODIFIED:20220506T210900Z
UID:26639-1652725800-1652731200@www.cgtensenyament.cat
SUMMARY:Assemblea General Extraordinària afiliació ensenyament Baix Llobregat
DESCRIPTION:Assemblea General Extraordinària afiliació ensenyament Baix Llobregat \n18.30h
URL:https://www.cgtensenyament.cat/event/assemblea-general-extraordinaria-afiliacio-ensenyament-baix-llobregat/
LOCATION:CGT Baix Llobregat\, Ctra. de Esplugues\, 46\, Cornellà de Llobregat\, Barcelona\, 08940
CATEGORIES:Assemblea
ATTACH;FMTTYPE=image/png:https://www.cgtensenyament.cat/wp-content/uploads/2022/05/20220516-ASSEMBLEA-AFILIACIO-BAIX-LL.png
END:VEVENT
BEGIN:VEVENT
DTSTART;TZID=Europe/Madrid:20220517T080000
DTEND;TZID=Europe/Madrid:20220517T100000
DTSTAMP:20260424T230901
CREATED:20220506T211212Z
LAST-MODIFIED:20220506T211212Z
UID:26642-1652774400-1652781600@www.cgtensenyament.cat
SUMMARY:Vaga Parcial
DESCRIPTION:Tornem a la #VagaEducació \n17 de maig de 8 a 10h \n25 de maig tot el dia \n2 de juny de 8 a 10h \n9 de juny tot el dia \nPer una educació pública i de qualitat\, revertim les retallades\, aturem les imposicions \n#NegociacióRealJa #CambrayDimissió \nCartell Tornem a la vaga (PDF)
URL:https://www.cgtensenyament.cat/event/vaga-parcial/
LOCATION:Barcelona
CATEGORIES:Vaga
ATTACH;FMTTYPE=image/png:https://www.cgtensenyament.cat/wp-content/uploads/2022/05/plou-fc-3.png
END:VEVENT
BEGIN:VEVENT
DTSTART;TZID=Europe/Madrid:20220518T124500
DTEND;TZID=Europe/Madrid:20220518T140000
DTSTAMP:20260424T230901
CREATED:20220109T011058Z
LAST-MODIFIED:20220426T072235Z
UID:24226-1652877900-1652882400@www.cgtensenyament.cat
SUMMARY:Assemblea de Zona Terrassa Maig
DESCRIPTION:Zona Terrassa\nHora: 12.45h \nLloc* – https://meet.jit.si/ZonaSindicalTerrassa
URL:https://www.cgtensenyament.cat/event/assemblea-de-zona-terrassa-maig/
LOCATION:Barcelona
CATEGORIES:Assemblea
ATTACH;FMTTYPE=image/png:https://www.cgtensenyament.cat/wp-content/uploads/2022/01/zona-Terrassa.png
END:VEVENT
BEGIN:VEVENT
DTSTART;TZID=Europe/Madrid:20220519T110000
DTEND;TZID=Europe/Madrid:20220519T120000
DTSTAMP:20260424T230901
CREATED:20220518T060425Z
LAST-MODIFIED:20220518T060425Z
UID:26942-1652958000-1652961600@www.cgtensenyament.cat
SUMMARY:Roda de premsa Escoles de persones adultes
DESCRIPTION:dijous 19 de maig\, a les 11 del matí\, davant del DEPARTAMENT D’EDUCACIÓ \n109 CFA (CENTRES DE FORMACIÓ DE PERSONES ADULTES)\, amb el suport dels sindicats de la Mesa unitària\, SIGNEN UN MANIFEST de rebuig per la discriminació en la preinscripció a CFGM QUE EL DEPARTAMENT MANTÉ AMB L’ALUMNAT QUE CURSA ESTUDIS EN AQUESTS CENTRES. \nDijous 19 de maig a les 11 del matí\, els centres de formació d’adults de tot Catalunya mostraran davant el Departament d’Educació el seu rebuig per un canvi del procediment d’inscripció que deixa el seu alumnat sense possibilitats reals d’obtenir plaça per estudiar un cicle formatiu de grau mitjà.
URL:https://www.cgtensenyament.cat/event/roda-de-premsa-escoles-de-persones-adultes/
LOCATION:Departament d’Educació\, Via Augusta 202-226\, Barcelona\, Barcelona\, 08025\, Espanya
CATEGORIES:Roda de premsa
ATTACH;FMTTYPE=image/png:https://www.cgtensenyament.cat/wp-content/uploads/2022/05/CFA-Persones-adultes.png
END:VEVENT
BEGIN:VEVENT
DTSTART;TZID=Europe/Madrid:20220523T183000
DTEND;TZID=Europe/Madrid:20220523T200000
DTSTAMP:20260424T230901
CREATED:20220522T203228Z
LAST-MODIFIED:20220522T203228Z
UID:27085-1653330600-1653336000@www.cgtensenyament.cat
SUMMARY:Assemblea telemàtica unitària
DESCRIPTION:Aquest dilluns 23 a les 18:30h assemblea unitària telemàtica 📢 \n🔗 Enllaç: ja.cat/dZLTc \nPreparem #VagaEducació del dia el 25 de maig 💪
URL:https://www.cgtensenyament.cat/event/assemblea-telematica-unitaria/
LOCATION:Telemàtica\, ja.cat/dZLTc
CATEGORIES:Assemblea
ATTACH;FMTTYPE=image/jpeg:https://www.cgtensenyament.cat/wp-content/uploads/2022/05/photo_2022-05-22_23-17-59.jpg
END:VEVENT
END:VCALENDAR