BEGIN:VCALENDAR
VERSION:2.0
PRODID:-//CGT Ensenyament - ECPv6.15.20//NONSGML v1.0//EN
CALSCALE:GREGORIAN
METHOD:PUBLISH
X-WR-CALNAME:CGT Ensenyament
X-ORIGINAL-URL:https://www.cgtensenyament.cat
X-WR-CALDESC:Esdeveniments per CGT Ensenyament
REFRESH-INTERVAL;VALUE=DURATION:PT1H
X-Robots-Tag:noindex
X-PUBLISHED-TTL:PT1H
BEGIN:VTIMEZONE
TZID:Europe/Madrid
BEGIN:DAYLIGHT
TZOFFSETFROM:+0100
TZOFFSETTO:+0200
TZNAME:CEST
DTSTART:20210328T010000
END:DAYLIGHT
BEGIN:STANDARD
TZOFFSETFROM:+0200
TZOFFSETTO:+0100
TZNAME:CET
DTSTART:20211031T010000
END:STANDARD
BEGIN:DAYLIGHT
TZOFFSETFROM:+0100
TZOFFSETTO:+0200
TZNAME:CEST
DTSTART:20220327T010000
END:DAYLIGHT
BEGIN:STANDARD
TZOFFSETFROM:+0200
TZOFFSETTO:+0100
TZNAME:CET
DTSTART:20221030T010000
END:STANDARD
BEGIN:DAYLIGHT
TZOFFSETFROM:+0100
TZOFFSETTO:+0200
TZNAME:CEST
DTSTART:20230326T010000
END:DAYLIGHT
BEGIN:STANDARD
TZOFFSETFROM:+0200
TZOFFSETTO:+0100
TZNAME:CET
DTSTART:20231029T010000
END:STANDARD
END:VTIMEZONE
BEGIN:VEVENT
DTSTART;TZID=Europe/Madrid:20220906T180000
DTEND;TZID=Europe/Madrid:20220906T200000
DTSTAMP:20260424T170942
CREATED:20220902T095922Z
LAST-MODIFIED:20220902T095922Z
UID:27905-1662487200-1662494400@www.cgtensenyament.cat
SUMMARY:Assemblea extraordinària afiliació pública no universitària - Ensenyament BCN
DESCRIPTION:Vine\, participa i decideix!
URL:https://www.cgtensenyament.cat/event/assemblea-extraordinaria-afiliacio-publica-no-universitaria-ensenyament-bcn/
LOCATION:Federació Local de Barcelona\, c/ Pare Laínez\, 18\, Barcelona\, Barcelona
CATEGORIES:Assemblea,Vaga
ATTACH;FMTTYPE=image/png:https://www.cgtensenyament.cat/wp-content/uploads/2022/09/assemblea-26.png
END:VEVENT
BEGIN:VEVENT
DTSTART;TZID=Europe/Madrid:20220909T110000
DTEND;TZID=Europe/Madrid:20220909T120000
DTSTAMP:20260424T170942
CREATED:20220908T201257Z
LAST-MODIFIED:20220908T201257Z
UID:27976-1662721200-1662724800@www.cgtensenyament.cat
SUMMARY:Roda de premsa. Denunciem a Inspecció de Treball les altes temperatures a les escoles
DESCRIPTION:Com era de preveure\, aquest inici de curs està sent\, literalment\, un infern. Ja dèiem quan l’encara conseller Cambray anunciava l’avançament de les classes\, que fer-ho era un error. Davant de la manca de resposta a les denúncies fetes al juny del curs passat als Comitès de Salut i davant les mesures mal planificades i totalment insuficients que ha pres el departament amb l’oferiment de ventiladors\, hem decidit demanar la intervenció d’inspecció de treball. \n\nCONVOCATÒRIA RODA DE PREMSA \nDenunciem a Inspecció de Treball les altes temperatures a les escoles \nDIVENDRES 9 DE SETEMBRE a les 11 h davant Inspecció de Treball (Travessera de Gràcia\, 303\, 08025 Barcelona). \nMotiu: Denunciem a Inspecció de Treball les altes temperatures a les escoles.
URL:https://www.cgtensenyament.cat/event/roda-de-premsa-denunciem-a-inspeccio-de-treball-les-altes-temperatures-a-les-escoles/
LOCATION:Inspecció de Treball de Barcelona\, Travessera de Gràcia\, 303\, Barcelona\, Barcelona
CATEGORIES:Roda de premsa
ATTACH;FMTTYPE=image/png:https://www.cgtensenyament.cat/wp-content/uploads/2022/09/Roda-de-premsa.png
END:VEVENT
BEGIN:VEVENT
DTSTART;TZID=Europe/Madrid:20220917T100000
DTEND;TZID=Europe/Madrid:20220917T130000
DTSTAMP:20260424T170942
CREATED:20220908T203034Z
LAST-MODIFIED:20220908T203034Z
UID:27980-1663408800-1663419600@www.cgtensenyament.cat
SUMMARY:Coordinació d'assemblees docents de Barcelona i rodalies
DESCRIPTION:La lluita no s’atura. Seguim organitzant-nos en defensa de l’educació pública. \nDissabte 17 de setembre a les 10h a la Casa de la Solidaritat. c/Vistalegre 15\, Barcelona.
URL:https://www.cgtensenyament.cat/event/coordinacio-dassemblees-docents-de-barcelona-i-rodalies/
LOCATION:Casa de la Solidaritat\, c/ de Vistalegre\, 15\, Barcelona\, Barcelona\, 08001
CATEGORIES:Assemblea
ATTACH;FMTTYPE=image/jpeg:https://www.cgtensenyament.cat/wp-content/uploads/2022/09/FcH0UaEWYAAT6TS.jpg
END:VEVENT
BEGIN:VEVENT
DTSTART;TZID=Europe/Madrid:20220922T163000
DTEND;TZID=Europe/Madrid:20220922T180000
DTSTAMP:20260424T170942
CREATED:20220914T211134Z
LAST-MODIFIED:20220918T204337Z
UID:28097-1663864200-1663869600@www.cgtensenyament.cat
SUMMARY:Concentració laborals ensenyament - PAE (TEEI\, TIS\, EEE)
DESCRIPTION:CGT Laborals Ensenyament fa una crida a la mobilització de tot el personal PAE (TEEI\, TIS\, EEE) \n📆 22 Setembre\n📍 Departament d’Educació (Via Augusta\, 202 Barcelona)\n🕔 17:30h \n#LaLluitaContinua
URL:https://www.cgtensenyament.cat/event/concentracio-laborals-ensenyament-pae-teei-tis-eee/
LOCATION:Departament d’Educació\, Via Augusta 202-226\, Barcelona\, Barcelona\, 08025\, Espanya
CATEGORIES:Concentració
ATTACH;FMTTYPE=image/png:https://www.cgtensenyament.cat/wp-content/uploads/2022/09/image-5.png
ORGANIZER;CN="Personal Laboral Educaci%C3%B3 %E2%80%93 CGT Ensenyament":MAILTO:laboralseducacio@cgtcatalunya.cat
END:VEVENT
BEGIN:VEVENT
DTSTART;TZID=Europe/Madrid:20220928T170000
DTEND;TZID=Europe/Madrid:20220928T190000
DTSTAMP:20260424T170942
CREATED:20220923T072628Z
LAST-MODIFIED:20220923T072655Z
UID:28229-1664384400-1664391600@www.cgtensenyament.cat
SUMMARY:Assemblea general extraordinària afiliació ensenyament sindicat Baix Llobregat
DESCRIPTION:Assemblea general extraordinària afiliació ensenyament sindicat Baix Llobrega\n\n\n \n\n\n🗓 DIMECRES 28 de setembre – 18h\n\n\n \n\n\nVine\, participa i decidim entre totes!
URL:https://www.cgtensenyament.cat/event/assemblea-general-extraordinaria-afiliacio-ensenyament-sindicat-baix-llobregat/
LOCATION:Federació Comarcal del Baix Llobregat\, Ctra d’Esplugues\, 46\, Cornellà de Llobregat\, Barcelona\, 08940
CATEGORIES:Assemblea
ATTACH;FMTTYPE=image/jpeg:https://www.cgtensenyament.cat/wp-content/uploads/2022/09/photo_2022-09-23_09-21-31.jpg
END:VEVENT
END:VCALENDAR