BEGIN:VCALENDAR
VERSION:2.0
PRODID:-//CGT Ensenyament - ECPv6.15.20//NONSGML v1.0//EN
CALSCALE:GREGORIAN
METHOD:PUBLISH
X-WR-CALNAME:CGT Ensenyament
X-ORIGINAL-URL:https://www.cgtensenyament.cat
X-WR-CALDESC:Esdeveniments per CGT Ensenyament
REFRESH-INTERVAL;VALUE=DURATION:PT1H
X-Robots-Tag:noindex
X-PUBLISHED-TTL:PT1H
BEGIN:VTIMEZONE
TZID:Europe/Madrid
BEGIN:DAYLIGHT
TZOFFSETFROM:+0100
TZOFFSETTO:+0200
TZNAME:CEST
DTSTART:20220327T010000
END:DAYLIGHT
BEGIN:STANDARD
TZOFFSETFROM:+0200
TZOFFSETTO:+0100
TZNAME:CET
DTSTART:20221030T010000
END:STANDARD
BEGIN:DAYLIGHT
TZOFFSETFROM:+0100
TZOFFSETTO:+0200
TZNAME:CEST
DTSTART:20230326T010000
END:DAYLIGHT
BEGIN:STANDARD
TZOFFSETFROM:+0200
TZOFFSETTO:+0100
TZNAME:CET
DTSTART:20231029T010000
END:STANDARD
BEGIN:DAYLIGHT
TZOFFSETFROM:+0100
TZOFFSETTO:+0200
TZNAME:CEST
DTSTART:20240331T010000
END:DAYLIGHT
BEGIN:STANDARD
TZOFFSETFROM:+0200
TZOFFSETTO:+0100
TZNAME:CET
DTSTART:20241027T010000
END:STANDARD
END:VTIMEZONE
BEGIN:VEVENT
DTSTART;TZID=Europe/Madrid:20230112T170000
DTEND;TZID=Europe/Madrid:20230112T190000
DTSTAMP:20260424T105536
CREATED:20221231T191829Z
LAST-MODIFIED:20221231T191829Z
UID:29777-1673542800-1673550000@www.cgtensenyament.cat
SUMMARY:Assemblea general extraordinària afiliació ensenyament Barcelona
DESCRIPTION:Assemblea general extraordinària afiliació ensenyament sindicat Barcelona   \nDIJOUS 12 de gener – 18h  \nVine\, participa i decideix! Juntes\, som més fortes!
URL:https://www.cgtensenyament.cat/event/assemblea-general-extraordinaria-afiliacio-ensenyament-barcelona-3/
LOCATION:Federació Local de Barcelona\, c/ Pare Laínez\, 18\, Barcelona\, Barcelona
CATEGORIES:Assemblea
ATTACH;FMTTYPE=image/png:https://www.cgtensenyament.cat/wp-content/uploads/2022/12/Assemblea-5.png
END:VEVENT
BEGIN:VEVENT
DTSTART;TZID=Europe/Madrid:20230116T110000
DTEND;TZID=Europe/Madrid:20230116T123000
DTSTAMP:20260424T105536
CREATED:20221221T130746Z
LAST-MODIFIED:20221221T130746Z
UID:29614-1673866800-1673872200@www.cgtensenyament.cat
SUMMARY:Assemblea de zona - Rubí
DESCRIPTION:Assemblea educativa zona Rubí – 12h – CRP Rubí (Carrer de Numància\, 11\, 08191 Rubí)
URL:https://www.cgtensenyament.cat/event/assemblea-de-zona-rubi/
LOCATION:CRP Rubí\, Carrer Numància 11\, Rubí\, 08191\, Espanya
CATEGORIES:Assemblea
ATTACH;FMTTYPE=image/png:https://www.cgtensenyament.cat/wp-content/uploads/2022/01/zona-Rubi-Sant-Cugat.png
END:VEVENT
BEGIN:VEVENT
DTSTART;TZID=Europe/Madrid:20230118T110000
DTEND;TZID=Europe/Madrid:20230118T123000
DTSTAMP:20260424T105536
CREATED:20221221T131034Z
LAST-MODIFIED:20221221T131034Z
UID:29615-1674039600-1674045000@www.cgtensenyament.cat
SUMMARY:Assemblea de zona - Sabadell
DESCRIPTION:Assemblea educativa de zona Sabadell – 12h – Centre Cívic Can Rull
URL:https://www.cgtensenyament.cat/event/assemblea-de-zona-sabadell/
LOCATION:Centre Cívic Can Rull\, c/ Sant Isidor\, 51\, Sabadell\, Barcelona\, 08206
CATEGORIES:Assemblea
ATTACH;FMTTYPE=image/png:https://www.cgtensenyament.cat/wp-content/uploads/2022/01/zona-Sabadell.png
END:VEVENT
BEGIN:VEVENT
DTSTART;TZID=Europe/Madrid:20230118T113000
DTEND;TZID=Europe/Madrid:20230118T130000
DTSTAMP:20260424T105536
CREATED:20221221T131424Z
LAST-MODIFIED:20221221T131424Z
UID:29616-1674041400-1674046800@www.cgtensenyament.cat
SUMMARY:Assemblea de zona Baix Vallès (Badia\, Barberà\, Cerdanyola\, Montcada\, Ripollet\, Santa Perpètua)
DESCRIPTION:Assemblea de Zona Baix Vallès – 12.30h Ateneu de Cerdanyola – En línia: https://meet.jit.si/AssembleaZonaBaixValles
URL:https://www.cgtensenyament.cat/event/assemblea-de-zona-baix-valles-badia-barbera-cerdanyola-montcada-ripollet-santa-perpetua/
LOCATION:Ateneu de Cerdanyola\, Carrer de la Indústria\, 38\, 40\, Cerdanyola\, 08290\, Espanya
CATEGORIES:Assemblea
ATTACH;FMTTYPE=image/png:https://www.cgtensenyament.cat/wp-content/uploads/2021/02/Zona-Baix-Valles.png
END:VEVENT
BEGIN:VEVENT
DTSTART;TZID=Europe/Madrid:20230119T180000
DTEND;TZID=Europe/Madrid:20230119T200000
DTSTAMP:20260424T105536
CREATED:20230113T093808Z
LAST-MODIFIED:20230113T093808Z
UID:29808-1674151200-1674158400@www.cgtensenyament.cat
SUMMARY:Assemblea general extraordinària afiliació ensenyament Barcelona
DESCRIPTION:Assemblea general extraordinària afiliació ensenyament sindicat Barcelona   \nDIJOUS 19 de gener – 18h \nVine\, participa i decideix! Juntes\, som més fortes!
URL:https://www.cgtensenyament.cat/event/assemblea-general-extraordinaria-afiliacio-ensenyament-barcelona-4/
LOCATION:Federació Local de Barcelona\, c/ Pare Laínez\, 18\, Barcelona\, Barcelona
CATEGORIES:Assemblea,Congrès
ATTACH;FMTTYPE=image/png:https://www.cgtensenyament.cat/wp-content/uploads/2023/01/Assemblea-6.png
END:VEVENT
BEGIN:VEVENT
DTSTART;TZID=Europe/Madrid:20230119T180000
DTEND;TZID=Europe/Madrid:20230119T200000
DTSTAMP:20260424T105536
CREATED:20230118T231343Z
LAST-MODIFIED:20230118T231439Z
UID:29895-1674151200-1674158400@www.cgtensenyament.cat
SUMMARY:Assemblea unitària VAGA 25 i 26 de gener
DESCRIPTION:Dijous 19 de gener a les 18h \nhttps://meet.jit.si/assembleavagaESTABILITATINTERINES
URL:https://www.cgtensenyament.cat/event/assemblea-unitaria-vaga-25-i-26-de-gener/
LOCATION:Telemàtica\, ja.cat/dZLTc
CATEGORIES:Assemblea,Vaga
ATTACH;FMTTYPE=image/jpeg:https://www.cgtensenyament.cat/wp-content/uploads/2023/01/photo_2023-01-18_22-28-30.jpg
END:VEVENT
BEGIN:VEVENT
DTSTART;TZID=Europe/Madrid:20230120T130000
DTEND;TZID=Europe/Madrid:20230120T140000
DTSTAMP:20260424T105536
CREATED:20230118T230520Z
LAST-MODIFIED:20230118T230520Z
UID:29862-1674219600-1674223200@www.cgtensenyament.cat
SUMMARY:Xerrada sobre les vagues del 25G i 26G
DESCRIPTION:Divendres 20 de gener farem dues xerrades on-line (a les 13:00h i a les 17:30h). \nHi podreu accedir amb el següent enllaç: https://meet.jit.si/XERRADA-VAGA-25G-26G \nUs animem a participar-hi! Entre totes\, tot!!
URL:https://www.cgtensenyament.cat/event/xerrada-sobre-les-vagues-del-25g-i-26g-2/
LOCATION:Telemàtica\, ja.cat/dZLTc
CATEGORIES:Vaga,Xerrada
ATTACH;FMTTYPE=image/jpeg:https://www.cgtensenyament.cat/wp-content/uploads/2023/01/photo_2023-01-18_23-56-15.jpg
END:VEVENT
BEGIN:VEVENT
DTSTART;TZID=Europe/Madrid:20230120T173000
DTEND;TZID=Europe/Madrid:20230120T183000
DTSTAMP:20260424T105536
CREATED:20230118T230515Z
LAST-MODIFIED:20230118T230515Z
UID:29891-1674235800-1674239400@www.cgtensenyament.cat
SUMMARY:Xerrada sobre les vagues del 25G i 26G
DESCRIPTION:Divendres 20 de gener farem dues xerrades on-line (a les 13:00h i a les 17:30h). \nHi podreu accedir amb el següent enllaç: https://meet.jit.si/XERRADA-VAGA-25G-26G \nUs animem a participar-hi! Entre totes\, tot!!
URL:https://www.cgtensenyament.cat/event/xerrada-sobre-les-vagues-del-25g-i-26g/
LOCATION:Telemàtica\, ja.cat/dZLTc
CATEGORIES:Vaga,Xerrada
ATTACH;FMTTYPE=image/jpeg:https://www.cgtensenyament.cat/wp-content/uploads/2023/01/photo_2023-01-18_23-56-15.jpg
ORGANIZER;CN="CGT Baix Llobregat":MAILTO:correu@cgtbaixllobregat.cat
END:VEVENT
BEGIN:VEVENT
DTSTART;VALUE=DATE:20230125
DTEND;VALUE=DATE:20230126
DTSTAMP:20260424T105536
CREATED:20230123T194415Z
LAST-MODIFIED:20230123T194415Z
UID:29998-1674604800-1674691199@www.cgtensenyament.cat
SUMMARY:Vaga Sanitat-Educació
DESCRIPTION:Convocatòries \n25 de gener. BARCELONA. \nMANIFESTACIÓ. 11h Plaça Sant Jaume fins al Parlament. \n8.30h Sants Estació (Sortida Països Catalans) – Piquet matinal \n9.30h Metro Drassanes. Piquet PINDOC \n10h Hospital Clínic. Ens unim a la concentració de sanitat \nAutobusos des de Tarragona\, Reus\, Girona\, Valls\, El Vendrell\, Lleida. \nCatalunya Central. 9h. Estació RENFE Manresa. Trobada per baixar a la manifestació unitària de Barcelona
URL:https://www.cgtensenyament.cat/event/vaga-sanitat-educacio/
LOCATION:Barcelona
CATEGORIES:Vaga
ATTACH;FMTTYPE=image/jpeg:https://www.cgtensenyament.cat/wp-content/uploads/2023/01/photo_2023-01-20_23-42-08.jpg
END:VEVENT
BEGIN:VEVENT
DTSTART;VALUE=DATE:20230126
DTEND;VALUE=DATE:20230127
DTSTAMP:20260424T105536
CREATED:20230123T194615Z
LAST-MODIFIED:20230123T194615Z
UID:30000-1674691200-1674777599@www.cgtensenyament.cat
SUMMARY:Vaga Sanitat-Educació
DESCRIPTION:Convocatòries \n25 de gener. BARCELONA. \nMANIFESTACIÓ. 11h Plaça Sant Jaume fins al Parlament. \n8.30h Sants Estació (Sortida Països Catalans) – Piquet matinal \n9.30h Metro Drassanes. Piquet PINDOC \n10h Hospital Clínic. Ens unim a la concentració de sanitat \nAutobusos des de Tarragona\, Reus\, Girona\, Valls\, El Vendrell\, Lleida. \nCatalunya Central. 9h. Estació RENFE Manresa. Trobada per baixar a la manifestació unitària de BarcelonaS
URL:https://www.cgtensenyament.cat/event/vaga-sanitat-educacio-2/
LOCATION:Barcelona
CATEGORIES:Vaga
END:VEVENT
BEGIN:VEVENT
DTSTART;TZID=Europe/Madrid:20230130T180000
DTEND;TZID=Europe/Madrid:20230130T200000
DTSTAMP:20260424T105536
CREATED:20230124T235157Z
LAST-MODIFIED:20230124T235157Z
UID:30036-1675101600-1675108800@www.cgtensenyament.cat
SUMMARY:Assemblea extraordinària afiliació pública no universitària ensenyament Barcelona
DESCRIPTION:Assemblea extraordinària afiliació pública no universitària ensenyament Barcelona \nDILLUNS 30 de gener – 18h \nVine\, participa i decideix! Juntes\, som més fortes!
URL:https://www.cgtensenyament.cat/event/assemblea-extraordinaria-afiliacio-publica-no-universitaria-ensenyament-barcelona/
LOCATION:Federació Local de Barcelona\, c/ Pare Laínez\, 18\, Barcelona\, Barcelona
CATEGORIES:Assemblea
ATTACH;FMTTYPE=image/png:https://www.cgtensenyament.cat/wp-content/uploads/2023/01/Assemblea-7.png
END:VEVENT
END:VCALENDAR