BEGIN:VCALENDAR
VERSION:2.0
PRODID:-//CGT Ensenyament - ECPv6.15.20//NONSGML v1.0//EN
CALSCALE:GREGORIAN
METHOD:PUBLISH
X-WR-CALNAME:CGT Ensenyament
X-ORIGINAL-URL:https://www.cgtensenyament.cat
X-WR-CALDESC:Esdeveniments per CGT Ensenyament
REFRESH-INTERVAL;VALUE=DURATION:PT1H
X-Robots-Tag:noindex
X-PUBLISHED-TTL:PT1H
BEGIN:VTIMEZONE
TZID:Europe/Madrid
BEGIN:DAYLIGHT
TZOFFSETFROM:+0100
TZOFFSETTO:+0200
TZNAME:CEST
DTSTART:20210328T010000
END:DAYLIGHT
BEGIN:STANDARD
TZOFFSETFROM:+0200
TZOFFSETTO:+0100
TZNAME:CET
DTSTART:20211031T010000
END:STANDARD
BEGIN:DAYLIGHT
TZOFFSETFROM:+0100
TZOFFSETTO:+0200
TZNAME:CEST
DTSTART:20220327T010000
END:DAYLIGHT
BEGIN:STANDARD
TZOFFSETFROM:+0200
TZOFFSETTO:+0100
TZNAME:CET
DTSTART:20221030T010000
END:STANDARD
BEGIN:DAYLIGHT
TZOFFSETFROM:+0100
TZOFFSETTO:+0200
TZNAME:CEST
DTSTART:20230326T010000
END:DAYLIGHT
BEGIN:STANDARD
TZOFFSETFROM:+0200
TZOFFSETTO:+0100
TZNAME:CET
DTSTART:20231029T010000
END:STANDARD
END:VTIMEZONE
BEGIN:VEVENT
DTSTART;TZID=Europe/Madrid:20221110T163000
DTEND;TZID=Europe/Madrid:20221110T183000
DTSTAMP:20260424T153413
CREATED:20221027T223059Z
LAST-MODIFIED:20221027T223059Z
UID:28817-1668097800-1668105000@www.cgtensenyament.cat
SUMMARY:Assemblea general ordinària ensenyament Baix Llobregat
DESCRIPTION:Assemblea general ordinària ensenyament Baix Llobregat \nDimecres 9 de novembre i dijous 10 de novembre a les 17.30h \nVine\, participa i decidim entre totes!
URL:https://www.cgtensenyament.cat/event/assemblea-general-ordinaria-ensenyament-baix-llobregat-2/
LOCATION:Federació Comarcal del Baix Llobregat\, Ctra d’Esplugues\, 46\, Cornellà de Llobregat\, Barcelona\, 08940
CATEGORIES:Assemblea
ATTACH;FMTTYPE=image/jpeg:https://www.cgtensenyament.cat/wp-content/uploads/2022/10/photo_2022-10-28_00-23-46.jpg
END:VEVENT
BEGIN:VEVENT
DTSTART;TZID=Europe/Madrid:20221110T170000
DTEND;TZID=Europe/Madrid:20221110T193000
DTSTAMP:20260424T153413
CREATED:20221028T081425Z
LAST-MODIFIED:20221101T222604Z
UID:28833-1668099600-1668108600@www.cgtensenyament.cat
SUMMARY:Assemblea general extraordinària afiliació ensenyament Barcelona
DESCRIPTION:El dilluns 7 de novembre i dijous 10 de novembre als locals del sindicat (C/ Pare Laínez \, 18 àtic– sala Eladio Villanueva)\, us convoquem a: \nAssemblea  general extraordinària d’afiliats/des del Sindicat-ensenyament BCN per tractar els punts del Ple de la Federació d’ensenyament de Catalunya que se celebrarà els dies 19 i 20 de novembre a Reus \nhora: 18:00 h \nVine\, participa i decideix. Juntes\, som més fortes!
URL:https://www.cgtensenyament.cat/event/assemblea-general-extraordinaria-afiliacio-ensenyament-barcelona-2/
LOCATION:Federació Local de Barcelona\, c/ Pare Laínez\, 18\, Barcelona\, Barcelona
CATEGORIES:Assemblea
ATTACH;FMTTYPE=image/png:https://www.cgtensenyament.cat/wp-content/uploads/2022/10/Assemblea-2.png
END:VEVENT
END:VCALENDAR