BEGIN:VCALENDAR
VERSION:2.0
PRODID:-//CGT Ensenyament - ECPv6.15.20//NONSGML v1.0//EN
CALSCALE:GREGORIAN
METHOD:PUBLISH
X-WR-CALNAME:CGT Ensenyament
X-ORIGINAL-URL:https://www.cgtensenyament.cat
X-WR-CALDESC:Esdeveniments per CGT Ensenyament
REFRESH-INTERVAL;VALUE=DURATION:PT1H
X-Robots-Tag:noindex
X-PUBLISHED-TTL:PT1H
BEGIN:VTIMEZONE
TZID:Europe/Madrid
BEGIN:DAYLIGHT
TZOFFSETFROM:+0100
TZOFFSETTO:+0200
TZNAME:CEST
DTSTART:20210328T010000
END:DAYLIGHT
BEGIN:STANDARD
TZOFFSETFROM:+0200
TZOFFSETTO:+0100
TZNAME:CET
DTSTART:20211031T010000
END:STANDARD
BEGIN:DAYLIGHT
TZOFFSETFROM:+0100
TZOFFSETTO:+0200
TZNAME:CEST
DTSTART:20220327T010000
END:DAYLIGHT
BEGIN:STANDARD
TZOFFSETFROM:+0200
TZOFFSETTO:+0100
TZNAME:CET
DTSTART:20221030T010000
END:STANDARD
BEGIN:DAYLIGHT
TZOFFSETFROM:+0100
TZOFFSETTO:+0200
TZNAME:CEST
DTSTART:20230326T010000
END:DAYLIGHT
BEGIN:STANDARD
TZOFFSETFROM:+0200
TZOFFSETTO:+0100
TZNAME:CET
DTSTART:20231029T010000
END:STANDARD
END:VTIMEZONE
BEGIN:VEVENT
DTSTART;TZID=Europe/Madrid:20221117T163000
DTEND;TZID=Europe/Madrid:20221117T173000
DTSTAMP:20260424T153435
CREATED:20221108T001352Z
LAST-MODIFIED:20221108T001352Z
UID:29015-1668702600-1668706200@www.cgtensenyament.cat
SUMMARY:Tornem als carrers! Concentració a Plaça Sant Jaume
DESCRIPTION:Tornem als carrers\nConcentració:  17 de novembre a les 17:30h. Plç. Sant Jaume (BCN).  \nRevertim les retallades\, lluitem per una educació pública i de qualitat.
URL:https://www.cgtensenyament.cat/event/tornem-als-carrers-concentracio-a-placa-sant-jaume/
LOCATION:Plaça Sant Jaume\, Plaça Sant Jaume\, Barcelona\, Espanya
CATEGORIES:Concentració
ATTACH;FMTTYPE=image/jpeg:https://www.cgtensenyament.cat/wp-content/uploads/2022/11/17N-tornem-als-carrers.jpeg
END:VEVENT
END:VCALENDAR