BEGIN:VCALENDAR
VERSION:2.0
PRODID:-//CGT Ensenyament - ECPv6.15.20//NONSGML v1.0//EN
CALSCALE:GREGORIAN
METHOD:PUBLISH
X-WR-CALNAME:CGT Ensenyament
X-ORIGINAL-URL:https://www.cgtensenyament.cat
X-WR-CALDESC:Esdeveniments per CGT Ensenyament
REFRESH-INTERVAL;VALUE=DURATION:PT1H
X-Robots-Tag:noindex
X-PUBLISHED-TTL:PT1H
BEGIN:VTIMEZONE
TZID:Europe/Madrid
BEGIN:DAYLIGHT
TZOFFSETFROM:+0100
TZOFFSETTO:+0200
TZNAME:CEST
DTSTART:20200329T010000
END:DAYLIGHT
BEGIN:STANDARD
TZOFFSETFROM:+0200
TZOFFSETTO:+0100
TZNAME:CET
DTSTART:20201025T010000
END:STANDARD
BEGIN:DAYLIGHT
TZOFFSETFROM:+0100
TZOFFSETTO:+0200
TZNAME:CEST
DTSTART:20210328T010000
END:DAYLIGHT
BEGIN:STANDARD
TZOFFSETFROM:+0200
TZOFFSETTO:+0100
TZNAME:CET
DTSTART:20211031T010000
END:STANDARD
BEGIN:DAYLIGHT
TZOFFSETFROM:+0100
TZOFFSETTO:+0200
TZNAME:CEST
DTSTART:20220327T010000
END:DAYLIGHT
BEGIN:STANDARD
TZOFFSETFROM:+0200
TZOFFSETTO:+0100
TZNAME:CET
DTSTART:20221030T010000
END:STANDARD
END:VTIMEZONE
BEGIN:VEVENT
DTSTART;TZID=Europe/Madrid:20211111T180000
DTEND;TZID=Europe/Madrid:20211111T200000
DTSTAMP:20260426T021443
CREATED:20211104T145345Z
LAST-MODIFIED:20211112T170203Z
UID:23009-1636653600-1636660800@www.cgtensenyament.cat
SUMMARY:Assemblea extraordinària afiliació ensenyament Barcelona
DESCRIPTION:Dijous 11 de novembre – 18.00h\n(semipresencial) \nAccés online \nParticipa i decideix! \n#LesQueHiSomEnsQuedem \n 
URL:https://www.cgtensenyament.cat/event/assemblea-extraordinaria-afiliacio-ensenyament-barcelona/
LOCATION:Federació Local de Barcelona\, c/ Pare Laínez\, 18\, Barcelona\, Barcelona
CATEGORIES:Assemblea
ATTACH;FMTTYPE=image/png:https://www.cgtensenyament.cat/wp-content/uploads/2021/11/assemblea-13-e1636396993258.png
END:VEVENT
END:VCALENDAR