BEGIN:VCALENDAR
VERSION:2.0
PRODID:-//CGT Ensenyament - ECPv6.15.20//NONSGML v1.0//EN
CALSCALE:GREGORIAN
METHOD:PUBLISH
X-ORIGINAL-URL:https://www.cgtensenyament.cat
X-WR-CALDESC:Esdeveniments per CGT Ensenyament
REFRESH-INTERVAL;VALUE=DURATION:PT1H
X-Robots-Tag:noindex
X-PUBLISHED-TTL:PT1H
BEGIN:VTIMEZONE
TZID:Europe/Madrid
BEGIN:DAYLIGHT
TZOFFSETFROM:+0100
TZOFFSETTO:+0200
TZNAME:CEST
DTSTART:20210328T010000
END:DAYLIGHT
BEGIN:STANDARD
TZOFFSETFROM:+0200
TZOFFSETTO:+0100
TZNAME:CET
DTSTART:20211031T010000
END:STANDARD
BEGIN:DAYLIGHT
TZOFFSETFROM:+0100
TZOFFSETTO:+0200
TZNAME:CEST
DTSTART:20220327T010000
END:DAYLIGHT
BEGIN:STANDARD
TZOFFSETFROM:+0200
TZOFFSETTO:+0100
TZNAME:CET
DTSTART:20221030T010000
END:STANDARD
BEGIN:DAYLIGHT
TZOFFSETFROM:+0100
TZOFFSETTO:+0200
TZNAME:CEST
DTSTART:20230326T010000
END:DAYLIGHT
BEGIN:STANDARD
TZOFFSETFROM:+0200
TZOFFSETTO:+0100
TZNAME:CET
DTSTART:20231029T010000
END:STANDARD
END:VTIMEZONE
BEGIN:VEVENT
DTSTART;TZID=Europe/Madrid:20221119T100000
DTEND;TZID=Europe/Madrid:20221119T110000
DTSTAMP:20260424T010732
CREATED:20221109T144234Z
LAST-MODIFIED:20221109T145149Z
UID:29053-1668852000-1668855600@www.cgtensenyament.cat
SUMMARY:Sortim al carrer contra el robatori als nostres salaris i pensions\, 19 nov 2022
DESCRIPTION:Sortim al carrer contra el robatori als nostres salaris i pensions\n\n#AraNosaltres\n\nFem la nostra crida a mobilitzar-nos. A intensificar la nostra presència als carrers i a construir\, als centres de treball i als barris i pobles de tot el territori\, espais de resistència i conflicte contra aquest atac del capitalisme a les nostres vides. La disjuntiva és clara: o els seus beneficis o els nostres salaris\, les nostres pensions i les nostres vides.\n\nNosaltres ho tenim clar: Aquest dissabte 19 de novembre\, tornem al carrer!\n\n\nArticle sencer al web de CGT Catalunya\n\n\nBarcelona dissabte 19 novembre\, davant el Banc d’Espanya de plaça Catalunya a les 11.00h
URL:https://www.cgtensenyament.cat/event/sortim-al-carrer-contra-el-robatori-als-nostres-salaris-i-pensions-19-nov-2022/
LOCATION:Plaça Catalunya\, Plaça Catalunya\, Barcelona\, Barcelona\, 08002
CATEGORIES:Concentració,Manifestació
ATTACH;FMTTYPE=image/jpeg:https://www.cgtensenyament.cat/wp-content/uploads/2022/11/concentracio-pensions-cgt-catalunya_19nov2022.jpg
END:VEVENT
BEGIN:VEVENT
DTSTART;TZID=Europe/Madrid:20221124T164500
DTEND;TZID=Europe/Madrid:20221124T173000
DTSTAMP:20260424T010732
CREATED:20221123T200952Z
LAST-MODIFIED:20221123T200952Z
UID:29246-1669308300-1669311000@www.cgtensenyament.cat
SUMMARY:Concentració del Lleure en lluita\, a Nou Barris
DESCRIPTION:Si s’encenen les llums que sigui per fer visible la nostra precarietat. \nDijous ens concentrem a l’acte d’encesa de llums per denunciar l’empobriment acumulat que patim les treballadores externalitzades dels equipaments de proximitat de Barcelona. \n#culturailleurenlluita \n 
URL:https://www.cgtensenyament.cat/event/concentracio-del-lleure-en-lluita-a-nou-barris/
LOCATION:Plaça Major de Nou Barris\, Plaça Major de Nou Barris\, 1\, Barcelona\, Barcelona\, 08042
CATEGORIES:Concentració
ATTACH;FMTTYPE=image/jpeg:https://www.cgtensenyament.cat/wp-content/uploads/2022/11/ens-estan-escanyant-24nov2022.jpg
END:VEVENT
END:VCALENDAR