BEGIN:VCALENDAR
VERSION:2.0
PRODID:-//CGT Ensenyament - ECPv6.15.20//NONSGML v1.0//EN
CALSCALE:GREGORIAN
METHOD:PUBLISH
X-ORIGINAL-URL:https://www.cgtensenyament.cat
X-WR-CALDESC:Esdeveniments per CGT Ensenyament
REFRESH-INTERVAL;VALUE=DURATION:PT1H
X-Robots-Tag:noindex
X-PUBLISHED-TTL:PT1H
BEGIN:VTIMEZONE
TZID:Europe/Madrid
BEGIN:DAYLIGHT
TZOFFSETFROM:+0100
TZOFFSETTO:+0200
TZNAME:CEST
DTSTART:20220327T010000
END:DAYLIGHT
BEGIN:STANDARD
TZOFFSETFROM:+0200
TZOFFSETTO:+0100
TZNAME:CET
DTSTART:20221030T010000
END:STANDARD
BEGIN:DAYLIGHT
TZOFFSETFROM:+0100
TZOFFSETTO:+0200
TZNAME:CEST
DTSTART:20230326T010000
END:DAYLIGHT
BEGIN:STANDARD
TZOFFSETFROM:+0200
TZOFFSETTO:+0100
TZNAME:CET
DTSTART:20231029T010000
END:STANDARD
BEGIN:DAYLIGHT
TZOFFSETFROM:+0100
TZOFFSETTO:+0200
TZNAME:CEST
DTSTART:20240331T010000
END:DAYLIGHT
BEGIN:STANDARD
TZOFFSETFROM:+0200
TZOFFSETTO:+0100
TZNAME:CET
DTSTART:20241027T010000
END:STANDARD
END:VTIMEZONE
BEGIN:VEVENT
DTSTART;TZID=Europe/Madrid:20231205T123000
DTEND;TZID=Europe/Madrid:20231205T140000
DTSTAMP:20260423T040751
CREATED:20231205T082133Z
LAST-MODIFIED:20231205T082133Z
UID:33356-1701779400-1701784800@www.cgtensenyament.cat
SUMMARY:Concentració: Revertim les retallades!
DESCRIPTION:Aquest dimarts 5 de desembre a les 12.30h convoquem conjuntament concentració a la seu del Departament d’Educació a Via Augusta.\n#RevertimLesRetallades
URL:https://www.cgtensenyament.cat/event/concentracio-revertim-les-retallades/
LOCATION:Departament d’Educació\, Via Augusta 202-226\, Barcelona\, Barcelona\, 08025\, Espanya
CATEGORIES:Concentració,Manifestació
ATTACH;FMTTYPE=image/jpeg:https://www.cgtensenyament.cat/wp-content/uploads/2023/12/concentracio-educacio-5des2023-jpg.webp
END:VEVENT
BEGIN:VEVENT
DTSTART;TZID=Europe/Madrid:20231213T090000
DTEND;TZID=Europe/Madrid:20231213T110000
DTSTAMP:20260423T040751
CREATED:20231212T102849Z
LAST-MODIFIED:20231212T104344Z
UID:33417-1702458000-1702465200@www.cgtensenyament.cat
SUMMARY:VAGA a l'Institut Català de Salut contra el 3r Preacord
DESCRIPTION:VAGA a l’ICS contra el 3r Preacord \n\nNo reverteix les retallades\nNo recupera poder adquisitiu\nNo millora totes les categories\n\nEls dies 12 i 13 de desembre sortim al carrer! \n\nDimarts 12 desembre\, manifestació a les 9.00h\, Plaça Espanya i Av de la Reina Maria Cristina\, Barcelona\nDimecres 13 desembre\, concentració a les 9.00h\, Parlament de Catalunya
URL:https://www.cgtensenyament.cat/event/vaga-a-linstitut-catala-de-salut-contra-el-3r-preacord/
LOCATION:Parlament de Catalunya\, Parc de la Ciutadella\, s/n\, Barcelona\, Barcelona\, 08003
CATEGORIES:Concentració,Manifestació,Vaga
ATTACH;FMTTYPE=image/jpeg:https://www.cgtensenyament.cat/wp-content/uploads/2023/12/Vaga-ICS_12des2023-jpg.webp
END:VEVENT
BEGIN:VEVENT
DTSTART;TZID=Europe/Madrid:20231214T180000
DTEND;TZID=Europe/Madrid:20231214T200000
DTSTAMP:20260423T040751
CREATED:20231212T105031Z
LAST-MODIFIED:20231212T105031Z
UID:33424-1702576800-1702584000@www.cgtensenyament.cat
SUMMARY:Concentració en suport al Poble palestí
DESCRIPTION:Concentració en suport al poble palestí \nExigim al Departament d’Educació i al Govern de Catalunya ruptura immediata de relacions amb l’estat d’Israel \nAturem el Genocidi!\nLes escoles no es toquen! \nDijous 14D\, 18 h\nConsorci d’Educació de Barcelona\nPl. d’Urquinaona\, 6 \n#AturemElGenocidi\n#EducacioAmbPalestina\n#EnsenyemVida
URL:https://www.cgtensenyament.cat/event/concentracio-en-suport-al-poble-palesti/
LOCATION:Consorci d’Educació de Barcelona\, Pl. d'Urquinaona\, 6\, Barcelona\, Barcelona\, 08010
CATEGORIES:Concentració,Manifestació
ATTACH;FMTTYPE=image/jpeg:https://www.cgtensenyament.cat/wp-content/uploads/2023/12/concentracio-palestina_14des2023-jpg.webp
END:VEVENT
BEGIN:VEVENT
DTSTART;TZID=Europe/Madrid:20231215T110000
DTEND;TZID=Europe/Madrid:20231215T200000
DTSTAMP:20260423T040751
CREATED:20231212T110318Z
LAST-MODIFIED:20231212T110514Z
UID:33430-1702638000-1702670400@www.cgtensenyament.cat
SUMMARY:Cas Pedro Álvarez\, 31 anys d'impunitat
DESCRIPTION:Cas Pedro Álvarez\, 31 anys d’impunitat \nNo oblidem Ni oblidarem \nPedro Álvarez Peso\, assassinat per un policia a L’Hospitalet\, 31 anys d’impunitat \nCom cada any el 15 de desembre ens mobilitzem: \n\n11h Ofrena floral a Av. Catalunya de L’Hospitalet (metro L1 Torrassa )\n19h Concentració a Plaça Universitat de Barcelona\n\n  \nPlataforma Pedro Álvarez \n 
URL:https://www.cgtensenyament.cat/event/cas-pedro-alvarez-31-anys-dimpunitat/
LOCATION:Plaça Universitat\, Plaça Universitat\, Barcelona
CATEGORIES:Concentració,Efemèrides
ATTACH;FMTTYPE=image/jpeg:https://www.cgtensenyament.cat/wp-content/uploads/2023/12/Pedro-Alvarez_15des2023-jpg.webp
END:VEVENT
END:VCALENDAR