BEGIN:VCALENDAR
VERSION:2.0
PRODID:-//CGT Ensenyament - ECPv6.15.20//NONSGML v1.0//EN
CALSCALE:GREGORIAN
METHOD:PUBLISH
X-WR-CALNAME:CGT Ensenyament
X-ORIGINAL-URL:https://www.cgtensenyament.cat
X-WR-CALDESC:Esdeveniments per CGT Ensenyament
REFRESH-INTERVAL;VALUE=DURATION:PT1H
X-Robots-Tag:noindex
X-PUBLISHED-TTL:PT1H
BEGIN:VTIMEZONE
TZID:Europe/Madrid
BEGIN:DAYLIGHT
TZOFFSETFROM:+0100
TZOFFSETTO:+0200
TZNAME:CEST
DTSTART:20210328T010000
END:DAYLIGHT
BEGIN:STANDARD
TZOFFSETFROM:+0200
TZOFFSETTO:+0100
TZNAME:CET
DTSTART:20211031T010000
END:STANDARD
BEGIN:DAYLIGHT
TZOFFSETFROM:+0100
TZOFFSETTO:+0200
TZNAME:CEST
DTSTART:20220327T010000
END:DAYLIGHT
BEGIN:STANDARD
TZOFFSETFROM:+0200
TZOFFSETTO:+0100
TZNAME:CET
DTSTART:20221030T010000
END:STANDARD
BEGIN:DAYLIGHT
TZOFFSETFROM:+0100
TZOFFSETTO:+0200
TZNAME:CEST
DTSTART:20230326T010000
END:DAYLIGHT
BEGIN:STANDARD
TZOFFSETFROM:+0200
TZOFFSETTO:+0100
TZNAME:CET
DTSTART:20231029T010000
END:STANDARD
END:VTIMEZONE
BEGIN:VEVENT
DTSTART;VALUE=DATE:20220129
DTEND;VALUE=DATE:20220130
DTSTAMP:20260424T183712
CREATED:20220120T084422Z
LAST-MODIFIED:20220127T160604Z
UID:24471-1643414400-1643500799@www.cgtensenyament.cat
SUMMARY:Prou Mentides! 29 de gener mobilitzacions per la derogació de la reforma laboral
DESCRIPTION:Des de la Taula Sindical de Catalunya\, formada pels sindicats CGT\, CNT\, COS\, Solidaritat Obrera\, IAC i Cobas\, fem una crida a participar a les mobilitzacions del proper dissabte 29 de Gener per la derogació real de la nefasta reforma laboral del 2012\, com a primer pas en la recuperació dels drets robats a la classe treballadora. \nCal dir prou! No ens empassem la derogació fake! \nFem una crida a tota la classe treballadora catalana a mostrar la repulsa i exigir la derogació de les reformes laborals\, de forma especial les de 2012 i 2010\, que ens estant enfonsant en unes vides precàries per engreixar els seus beneficis. \nEl dissabte 29 de gener\, surt al carrer! \n 
URL:https://www.cgtensenyament.cat/event/prou-mentides-29-de-gener-mobilitzacions-per-la-derogacio-de-la-reforma-laboral/
CATEGORIES:Concentració,Manifestació
ATTACH;FMTTYPE=image/jpeg:https://www.cgtensenyament.cat/wp-content/uploads/2022/01/photo5994501557883877447.jpg
END:VEVENT
END:VCALENDAR