BEGIN:VCALENDAR
VERSION:2.0
PRODID:-//CGT Ensenyament - ECPv6.15.20//NONSGML v1.0//EN
CALSCALE:GREGORIAN
METHOD:PUBLISH
X-ORIGINAL-URL:https://www.cgtensenyament.cat
X-WR-CALDESC:Esdeveniments per CGT Ensenyament
REFRESH-INTERVAL;VALUE=DURATION:PT1H
X-Robots-Tag:noindex
X-PUBLISHED-TTL:PT1H
BEGIN:VTIMEZONE
TZID:Europe/Madrid
BEGIN:DAYLIGHT
TZOFFSETFROM:+0100
TZOFFSETTO:+0200
TZNAME:CEST
DTSTART:20210328T010000
END:DAYLIGHT
BEGIN:STANDARD
TZOFFSETFROM:+0200
TZOFFSETTO:+0100
TZNAME:CET
DTSTART:20211031T010000
END:STANDARD
BEGIN:DAYLIGHT
TZOFFSETFROM:+0100
TZOFFSETTO:+0200
TZNAME:CEST
DTSTART:20220327T010000
END:DAYLIGHT
BEGIN:STANDARD
TZOFFSETFROM:+0200
TZOFFSETTO:+0100
TZNAME:CET
DTSTART:20221030T010000
END:STANDARD
BEGIN:DAYLIGHT
TZOFFSETFROM:+0100
TZOFFSETTO:+0200
TZNAME:CEST
DTSTART:20230326T010000
END:DAYLIGHT
BEGIN:STANDARD
TZOFFSETFROM:+0200
TZOFFSETTO:+0100
TZNAME:CET
DTSTART:20231029T010000
END:STANDARD
END:VTIMEZONE
BEGIN:VEVENT
DTSTART;TZID=Europe/Madrid:20221008T170000
DTEND;TZID=Europe/Madrid:20221008T190000
DTSTAMP:20260424T040031
CREATED:20220928T121739Z
LAST-MODIFIED:20220928T121739Z
UID:28350-1665248400-1665255600@www.cgtensenyament.cat
SUMMARY:L'OBRERA de Sabadell es queda al barri!!
DESCRIPTION:L’OBRERA ES QUEDA AL BARRI!!!! \nManisfestació:\n8 Octubre Plaça Doctor Robert (#Sabadell) 18:00h.\n#LObreraEsQuedaAlBarri\n\n\n\n\n\nCentre Social situat al sud de Sabadell\, amb activitats d’oci\, formació i diversió. \nUnides per l’antifeixisme\, el feminisme i l’anticapitalisme
URL:https://www.cgtensenyament.cat/event/lobrera-de-sabadell-es-queda-al-barri/
LOCATION:L’Obrera\, C/ Lope de Vega 16\, Sabadell\, Barcelona
CATEGORIES:Concentració,Manifestació
ATTACH;FMTTYPE=image/jpeg:https://www.cgtensenyament.cat/wp-content/uploads/2022/09/la-obrerar-sabadell-8oct2022.jpg
END:VEVENT
END:VCALENDAR