BEGIN:VCALENDAR
VERSION:2.0
PRODID:-//CGT Ensenyament - ECPv6.15.20//NONSGML v1.0//EN
CALSCALE:GREGORIAN
METHOD:PUBLISH
X-WR-CALNAME:CGT Ensenyament
X-ORIGINAL-URL:https://www.cgtensenyament.cat
X-WR-CALDESC:Esdeveniments per CGT Ensenyament
REFRESH-INTERVAL;VALUE=DURATION:PT1H
X-Robots-Tag:noindex
X-PUBLISHED-TTL:PT1H
BEGIN:VTIMEZONE
TZID:Europe/Madrid
BEGIN:DAYLIGHT
TZOFFSETFROM:+0100
TZOFFSETTO:+0200
TZNAME:CEST
DTSTART:20220327T010000
END:DAYLIGHT
BEGIN:STANDARD
TZOFFSETFROM:+0200
TZOFFSETTO:+0100
TZNAME:CET
DTSTART:20221030T010000
END:STANDARD
BEGIN:DAYLIGHT
TZOFFSETFROM:+0100
TZOFFSETTO:+0200
TZNAME:CEST
DTSTART:20230326T010000
END:DAYLIGHT
BEGIN:STANDARD
TZOFFSETFROM:+0200
TZOFFSETTO:+0100
TZNAME:CET
DTSTART:20231029T010000
END:STANDARD
BEGIN:DAYLIGHT
TZOFFSETFROM:+0100
TZOFFSETTO:+0200
TZNAME:CEST
DTSTART:20240331T010000
END:DAYLIGHT
BEGIN:STANDARD
TZOFFSETFROM:+0200
TZOFFSETTO:+0100
TZNAME:CET
DTSTART:20241027T010000
END:STANDARD
END:VTIMEZONE
BEGIN:VEVENT
DTSTART;TZID=Europe/Madrid:20231214T180000
DTEND;TZID=Europe/Madrid:20231214T200000
DTSTAMP:20260423T054715
CREATED:20231212T105031Z
LAST-MODIFIED:20231212T105031Z
UID:33424-1702576800-1702584000@www.cgtensenyament.cat
SUMMARY:Concentració en suport al Poble palestí
DESCRIPTION:Concentració en suport al poble palestí \nExigim al Departament d’Educació i al Govern de Catalunya ruptura immediata de relacions amb l’estat d’Israel \nAturem el Genocidi!\nLes escoles no es toquen! \nDijous 14D\, 18 h\nConsorci d’Educació de Barcelona\nPl. d’Urquinaona\, 6 \n#AturemElGenocidi\n#EducacioAmbPalestina\n#EnsenyemVida
URL:https://www.cgtensenyament.cat/event/concentracio-en-suport-al-poble-palesti/
LOCATION:Consorci d’Educació de Barcelona\, Pl. d'Urquinaona\, 6\, Barcelona\, Barcelona\, 08010
CATEGORIES:Concentració,Manifestació
ATTACH;FMTTYPE=image/jpeg:https://www.cgtensenyament.cat/wp-content/uploads/2023/12/concentracio-palestina_14des2023-jpg.webp
END:VEVENT
END:VCALENDAR