BEGIN:VCALENDAR
VERSION:2.0
PRODID:-//CGT Ensenyament - ECPv6.15.20//NONSGML v1.0//EN
CALSCALE:GREGORIAN
METHOD:PUBLISH
X-ORIGINAL-URL:https://www.cgtensenyament.cat
X-WR-CALDESC:Esdeveniments per CGT Ensenyament
REFRESH-INTERVAL;VALUE=DURATION:PT1H
X-Robots-Tag:noindex
X-PUBLISHED-TTL:PT1H
BEGIN:VTIMEZONE
TZID:Europe/Madrid
BEGIN:DAYLIGHT
TZOFFSETFROM:+0100
TZOFFSETTO:+0200
TZNAME:CEST
DTSTART:20230326T010000
END:DAYLIGHT
BEGIN:STANDARD
TZOFFSETFROM:+0200
TZOFFSETTO:+0100
TZNAME:CET
DTSTART:20231029T010000
END:STANDARD
BEGIN:DAYLIGHT
TZOFFSETFROM:+0100
TZOFFSETTO:+0200
TZNAME:CEST
DTSTART:20240331T010000
END:DAYLIGHT
BEGIN:STANDARD
TZOFFSETFROM:+0200
TZOFFSETTO:+0100
TZNAME:CET
DTSTART:20241027T010000
END:STANDARD
BEGIN:DAYLIGHT
TZOFFSETFROM:+0100
TZOFFSETTO:+0200
TZNAME:CEST
DTSTART:20250330T010000
END:DAYLIGHT
BEGIN:STANDARD
TZOFFSETFROM:+0200
TZOFFSETTO:+0100
TZNAME:CET
DTSTART:20251026T010000
END:STANDARD
END:VTIMEZONE
BEGIN:VEVENT
DTSTART;TZID=Europe/Madrid:20240708T120000
DTEND;TZID=Europe/Madrid:20240708T130000
DTSTAMP:20260422T215253
CREATED:20240708T083749Z
LAST-MODIFIED:20240708T083817Z
UID:35604-1720440000-1720443600@www.cgtensenyament.cat
SUMMARY:Que no ens fotin les VACANTSes
DESCRIPTION:Que no ens fotin les VACANTSes \nConcentració dilluns 8 de juliol\n12.00 h\nDepartament d’Educació. Via Augusta\, 202-226\, Barcelona \n 
URL:https://www.cgtensenyament.cat/event/que-no-ens-fotin-les-vacantses/
LOCATION:Departament d’Educació\, Via Augusta 202-226\, Barcelona\, Barcelona\, 08025\, Espanya
CATEGORIES:Concentració,Manifestació
ATTACH;FMTTYPE=image/jpeg:https://www.cgtensenyament.cat/wp-content/uploads/2024/07/concentracio-vacants-8juliol2024.jpg
END:VEVENT
END:VCALENDAR