BEGIN:VCALENDAR
VERSION:2.0
PRODID:-//CGT Ensenyament - ECPv6.15.20//NONSGML v1.0//EN
CALSCALE:GREGORIAN
METHOD:PUBLISH
X-WR-CALNAME:CGT Ensenyament
X-ORIGINAL-URL:https://www.cgtensenyament.cat
X-WR-CALDESC:Esdeveniments per CGT Ensenyament
REFRESH-INTERVAL;VALUE=DURATION:PT1H
X-Robots-Tag:noindex
X-PUBLISHED-TTL:PT1H
BEGIN:VTIMEZONE
TZID:Europe/Madrid
BEGIN:DAYLIGHT
TZOFFSETFROM:+0100
TZOFFSETTO:+0200
TZNAME:CEST
DTSTART:20220327T010000
END:DAYLIGHT
BEGIN:STANDARD
TZOFFSETFROM:+0200
TZOFFSETTO:+0100
TZNAME:CET
DTSTART:20221030T010000
END:STANDARD
BEGIN:DAYLIGHT
TZOFFSETFROM:+0100
TZOFFSETTO:+0200
TZNAME:CEST
DTSTART:20230326T010000
END:DAYLIGHT
BEGIN:STANDARD
TZOFFSETFROM:+0200
TZOFFSETTO:+0100
TZNAME:CET
DTSTART:20231029T010000
END:STANDARD
BEGIN:DAYLIGHT
TZOFFSETFROM:+0100
TZOFFSETTO:+0200
TZNAME:CEST
DTSTART:20240331T010000
END:DAYLIGHT
BEGIN:STANDARD
TZOFFSETFROM:+0200
TZOFFSETTO:+0100
TZNAME:CET
DTSTART:20241027T010000
END:STANDARD
END:VTIMEZONE
BEGIN:VEVENT
DTSTART;TZID=Europe/Madrid:20230314T103000
DTEND;TZID=Europe/Madrid:20230314T183000
DTSTAMP:20260423T122744
CREATED:20230309T211256Z
LAST-MODIFIED:20230309T211256Z
UID:30714-1678789800-1678818600@www.cgtensenyament.cat
SUMMARY:Eleccions sindicals del personal docent no universitari
DESCRIPTION:Dimarts 14 de març de 10.30 h a 18.30 h \nConsulta la teva mesa de votació \nRaons per votar la CGT – Candidatures – Programa – Balanç 4 anys \n\n        \n            \n                                                \n\n                                        \n                        TH_ed-20260320-66
URL:https://www.cgtensenyament.cat/event/eleccions-sindicals-del-personal-docent-no-universitari/
CATEGORIES:Eleccions
ATTACH;FMTTYPE=image/png:https://www.cgtensenyament.cat/wp-content/uploads/2023/03/Entre-Totes-tot.png
END:VEVENT
END:VCALENDAR