BEGIN:VCALENDAR
VERSION:2.0
PRODID:-//CGT Ensenyament - ECPv6.15.20//NONSGML v1.0//EN
CALSCALE:GREGORIAN
METHOD:PUBLISH
X-WR-CALNAME:CGT Ensenyament
X-ORIGINAL-URL:https://www.cgtensenyament.cat
X-WR-CALDESC:Esdeveniments per CGT Ensenyament
REFRESH-INTERVAL;VALUE=DURATION:PT1H
X-Robots-Tag:noindex
X-PUBLISHED-TTL:PT1H
BEGIN:VTIMEZONE
TZID:Europe/Madrid
BEGIN:DAYLIGHT
TZOFFSETFROM:+0100
TZOFFSETTO:+0200
TZNAME:CEST
DTSTART:20210328T010000
END:DAYLIGHT
BEGIN:STANDARD
TZOFFSETFROM:+0200
TZOFFSETTO:+0100
TZNAME:CET
DTSTART:20211031T010000
END:STANDARD
BEGIN:DAYLIGHT
TZOFFSETFROM:+0100
TZOFFSETTO:+0200
TZNAME:CEST
DTSTART:20220327T010000
END:DAYLIGHT
BEGIN:STANDARD
TZOFFSETFROM:+0200
TZOFFSETTO:+0100
TZNAME:CET
DTSTART:20221030T010000
END:STANDARD
BEGIN:DAYLIGHT
TZOFFSETFROM:+0100
TZOFFSETTO:+0200
TZNAME:CEST
DTSTART:20230326T010000
END:DAYLIGHT
BEGIN:STANDARD
TZOFFSETFROM:+0200
TZOFFSETTO:+0100
TZNAME:CET
DTSTART:20231029T010000
END:STANDARD
END:VTIMEZONE
BEGIN:VEVENT
DTSTART;TZID=Europe/Madrid:20220310T120000
DTEND;TZID=Europe/Madrid:20220310T140000
DTSTAMP:20260424T201655
CREATED:20220311T094859Z
LAST-MODIFIED:20220311T094859Z
UID:25505-1646913600-1646920800@www.cgtensenyament.cat
SUMMARY:Homenatge a Salvador Seguí
DESCRIPTION:Homenatge a Salvador Seguí\, en el 99è aniversari del seu assassinat \n10 de març – Cementeri de Montjuic \n12.00h a la Porta de la mare del deu del Port \n12.30h ofrena floral\, nínxol B533\, Agrup 2 \n  \nOrganitzen: \nFundació Salvador Seguí \nCGT Catalunya
URL:https://www.cgtensenyament.cat/event/homenatge-a-salvador-segui/
LOCATION:Cementiri de Montjuïc\, Barcelona
CATEGORIES:Homenatge,Trobada
ATTACH;FMTTYPE=image/jpeg:https://www.cgtensenyament.cat/wp-content/uploads/2022/03/homenatge-segui-10mar2022.jpg
ORGANIZER;CN="Fundaci%C3%B3 Salvador Segu%C3%AD":MAILTO:fss.cat@fundacionssegui.org
END:VEVENT
BEGIN:VEVENT
DTSTART;TZID=Europe/Madrid:20220318T183000
DTEND;TZID=Europe/Madrid:20220318T200000
DTSTAMP:20260424T201655
CREATED:20220311T095736Z
LAST-MODIFIED:20220311T160613Z
UID:25508-1647628200-1647633600@www.cgtensenyament.cat
SUMMARY:Presentació del llibre "Salvador Seguí\, el colós de l'anarquisme"
DESCRIPTION:Presentació del llibre “Salvador Seguí\, el colós de l’anarquisme”\nA càrrec de Jordi Martí Font i Emili Cortavitarte Carral \ndivendres 18 de març\, 18.30h \nSala Eladio Villanueva\nFederació Local de Barcelona\nc/ Pare Laínez\, 18 \n  \nOrganitza:\nCGT Metall Barcelona\nFSS Catalunya
URL:https://www.cgtensenyament.cat/event/presentacio-del-llibre-salvador-segui-el-colos-de-lanarquisme-2/
LOCATION:Federació Local de Barcelona\, c/ Pare Laínez\, 18\, Barcelona\, Barcelona
CATEGORIES:Presentació,Xerrada
ATTACH;FMTTYPE=image/jpeg:https://www.cgtensenyament.cat/wp-content/uploads/2022/03/llibre-ssegui-18mar2022.jpg
ORGANIZER;CN="Fundaci%C3%B3 Salvador Segu%C3%AD":MAILTO:fss.cat@fundacionssegui.org
END:VEVENT
BEGIN:VEVENT
DTSTART;TZID=Europe/Madrid:20220319T120000
DTEND;TZID=Europe/Madrid:20220319T140000
DTSTAMP:20260424T201655
CREATED:20220225T090813Z
LAST-MODIFIED:20220228T204653Z
UID:25214-1647691200-1647698400@www.cgtensenyament.cat
SUMMARY:Jornada de Portes Obertes de la Fundació Salvador Seguí de Catalunya
DESCRIPTION:Jornada de Portes Obertes de la Fundació Salvador Seguí de Catalunya \n99è aniversari de l’assassinat de Salvador Seguí \nDissabte 19 de març a les 12 h \nBloc 2 de Can Batlló\, carrer Constitució 19\, Sants (Barcelona) \nEs tractarà d’una activitat de migdia\, en la qual ens ensenyaran el nou espai de la Fundació; els avenços en la catalogació i organització dels llibres\, revistes\, opuscles\, cartells i documents; els projectes a curt i mitjà termini; i es podran comprar llibres\, documentals i samarretes.
URL:https://www.cgtensenyament.cat/event/jornada-de-portes-obertes-de-la-fundacio-salvador-segui-de-catalunya/
LOCATION:Can Batlló\, c/ Constitució\, 19\, Barcelona
CATEGORIES:Presentació,Xerrada
ATTACH;FMTTYPE=image/jpeg:https://www.cgtensenyament.cat/wp-content/uploads/2021/03/fundacio-salvador-segui-logo.jpg
ORGANIZER;CN="Fundaci%C3%B3 Salvador Segu%C3%AD":MAILTO:fss.cat@fundacionssegui.org
END:VEVENT
END:VCALENDAR