BEGIN:VCALENDAR
VERSION:2.0
PRODID:-//CGT Ensenyament - ECPv6.15.20//NONSGML v1.0//EN
CALSCALE:GREGORIAN
METHOD:PUBLISH
X-WR-CALNAME:CGT Ensenyament
X-ORIGINAL-URL:https://www.cgtensenyament.cat
X-WR-CALDESC:Esdeveniments per CGT Ensenyament
REFRESH-INTERVAL;VALUE=DURATION:PT1H
X-Robots-Tag:noindex
X-PUBLISHED-TTL:PT1H
BEGIN:VTIMEZONE
TZID:Europe/Madrid
BEGIN:DAYLIGHT
TZOFFSETFROM:+0100
TZOFFSETTO:+0200
TZNAME:CEST
DTSTART:20210328T010000
END:DAYLIGHT
BEGIN:STANDARD
TZOFFSETFROM:+0200
TZOFFSETTO:+0100
TZNAME:CET
DTSTART:20211031T010000
END:STANDARD
BEGIN:DAYLIGHT
TZOFFSETFROM:+0100
TZOFFSETTO:+0200
TZNAME:CEST
DTSTART:20220327T010000
END:DAYLIGHT
BEGIN:STANDARD
TZOFFSETFROM:+0200
TZOFFSETTO:+0100
TZNAME:CET
DTSTART:20221030T010000
END:STANDARD
BEGIN:DAYLIGHT
TZOFFSETFROM:+0100
TZOFFSETTO:+0200
TZNAME:CEST
DTSTART:20230326T010000
END:DAYLIGHT
BEGIN:STANDARD
TZOFFSETFROM:+0200
TZOFFSETTO:+0100
TZNAME:CET
DTSTART:20231029T010000
END:STANDARD
END:VTIMEZONE
BEGIN:VEVENT
DTSTART;TZID=Europe/Madrid:20220401T183000
DTEND;TZID=Europe/Madrid:20220401T200000
DTSTAMP:20260424T183744
CREATED:20220328T201142Z
LAST-MODIFIED:20220328T203506Z
UID:25904-1648837800-1648843200@www.cgtensenyament.cat
SUMMARY:Presentació del llibre "El suport mutu"\, a Barcelona
DESCRIPTION:Presentació a càrrec de l’Alba Padrós\, traductora del llibre\, i de l’Emili Cortavitarte\, de la Fundació Salvador Seguí\, l’1 d’abril a les 18.30h a la Sala Eladio Villanueva dels locals de CGT Barcelona (c/Pare Lainez\, 18 – Metro L4 Joanic). \n“Cada cop que la humanitat ha hagut de bastir una nova organització social\, adaptada a una nova fase desenvolupament\, el seu geni creatiu ha pres elements i s’ha inspirat\, per tornar a enlairar-se\, en la tendència al suport mutu\, sempre viva.” \nOrganitza:\nCGT Metall Barcelona\nVirus Editorial\nFundació Salvador Seguí \n 
URL:https://www.cgtensenyament.cat/event/presentacio-del-llibre-el-suport-mutu-a-barcelona/
LOCATION:Federació Local de Barcelona\, c/ Pare Laínez\, 18\, Barcelona\, Barcelona
CATEGORIES:Presentació,Xerrada
ATTACH;FMTTYPE=image/jpeg:https://www.cgtensenyament.cat/wp-content/uploads/2022/03/el-suport-mutu-fundacio-ssegui-1abr2022-e1648501804382.jpg
ORGANIZER;CN="Fundaci%C3%B3 Salvador Segu%C3%AD":MAILTO:fss.cat@fundacionssegui.org
END:VEVENT
BEGIN:VEVENT
DTSTART;TZID=Europe/Madrid:20220402T110000
DTEND;TZID=Europe/Madrid:20220402T140000
DTSTAMP:20260424T183744
CREATED:20220328T201815Z
LAST-MODIFIED:20220328T202202Z
UID:25908-1648897200-1648908000@www.cgtensenyament.cat
SUMMARY:Presentació del llibre "Movimiento libertario y educación en España"\, a Berga
DESCRIPTION:El dissabte 2 d’abril a les 11.00h tindrà la presentació del llibre “Movimiento libertario y educación en España (1901-1936)”\, més vermut a l’Ateneu Columna Terra i Llibertat de Berga (carrer del Balç\, 4) a càrrec d’Emili Cortavitarte\, autor del llibre. \nOrganitzen:\nCGT Berguedà\nCentre d’Estudis Josep Ester Borràs\nFundació Salvador Seguí \n 
URL:https://www.cgtensenyament.cat/event/presentacio-del-llibre-movimiento-libertario-y-educacion-en-espana-a-berga/
LOCATION:Sindicat d’Activitats Diverses de Berga\, c/ del Balç\, 4\, Berga\, Barcelona\, 08600
CATEGORIES:Presentació,Xerrada
ATTACH;FMTTYPE=image/jpeg:https://www.cgtensenyament.cat/wp-content/uploads/2022/03/llibre-mov-lib-berga-2abr2022-e1648502369528.jpg
ORGANIZER;CN="CGT Bergued%C3%A0":MAILTO:ense.catcentral@cgtberga.org
END:VEVENT
END:VCALENDAR