BEGIN:VCALENDAR
VERSION:2.0
PRODID:-//CGT Ensenyament - ECPv6.15.20//NONSGML v1.0//EN
CALSCALE:GREGORIAN
METHOD:PUBLISH
X-WR-CALNAME:CGT Ensenyament
X-ORIGINAL-URL:https://www.cgtensenyament.cat
X-WR-CALDESC:Esdeveniments per CGT Ensenyament
REFRESH-INTERVAL;VALUE=DURATION:PT1H
X-Robots-Tag:noindex
X-PUBLISHED-TTL:PT1H
BEGIN:VTIMEZONE
TZID:Europe/Madrid
BEGIN:DAYLIGHT
TZOFFSETFROM:+0100
TZOFFSETTO:+0200
TZNAME:CEST
DTSTART:20210328T010000
END:DAYLIGHT
BEGIN:STANDARD
TZOFFSETFROM:+0200
TZOFFSETTO:+0100
TZNAME:CET
DTSTART:20211031T010000
END:STANDARD
BEGIN:DAYLIGHT
TZOFFSETFROM:+0100
TZOFFSETTO:+0200
TZNAME:CEST
DTSTART:20220327T010000
END:DAYLIGHT
BEGIN:STANDARD
TZOFFSETFROM:+0200
TZOFFSETTO:+0100
TZNAME:CET
DTSTART:20221030T010000
END:STANDARD
BEGIN:DAYLIGHT
TZOFFSETFROM:+0100
TZOFFSETTO:+0200
TZNAME:CEST
DTSTART:20230326T010000
END:DAYLIGHT
BEGIN:STANDARD
TZOFFSETFROM:+0200
TZOFFSETTO:+0100
TZNAME:CET
DTSTART:20231029T010000
END:STANDARD
END:VTIMEZONE
BEGIN:VEVENT
DTSTART;TZID=Europe/Madrid:20220609T110000
DTEND;TZID=Europe/Madrid:20220609T140000
DTSTAMP:20260424T170833
CREATED:20220603T122714Z
LAST-MODIFIED:20220603T122814Z
UID:27345-1654772400-1654783200@www.cgtensenyament.cat
SUMMARY:El Lleure també anem a la Vaga!
DESCRIPTION:Dijous 9 de juny\, el Lleure també va la vaga. En solidaritat amb les nostres companyes docents\, en defensa de l’educació pública. \nPunt de trobada mani dia 9 de juny\,  11.15h\, porta d’entrada de la UAB \n\nPer una pujada salarial immediata acord amb la pujada de l’IPC\nJornades per a monitores amb un mínim de 15 hores setmanals i per a vetlladores\, jornada complet\nTotes amb contractes fixes\nPosem fi a l’externalització dels serveis de lleure\n\n 
URL:https://www.cgtensenyament.cat/event/el-lleure-tambe-anem-a-la-vaga/
LOCATION:Universitat de Barcelona\, Gran Via de les Corts Catalanes\, 585\, Barcelona\, Barcelona\, 08025
CATEGORIES:Vaga
ATTACH;FMTTYPE=image/jpeg:https://www.cgtensenyament.cat/wp-content/uploads/2022/05/FUFgHZNX0AAhKCN.jpg
END:VEVENT
END:VCALENDAR