BEGIN:VCALENDAR
VERSION:2.0
PRODID:-//CGT Ensenyament - ECPv6.15.20//NONSGML v1.0//EN
CALSCALE:GREGORIAN
METHOD:PUBLISH
X-WR-CALNAME:CGT Ensenyament
X-ORIGINAL-URL:https://www.cgtensenyament.cat
X-WR-CALDESC:Esdeveniments per CGT Ensenyament
REFRESH-INTERVAL;VALUE=DURATION:PT1H
X-Robots-Tag:noindex
X-PUBLISHED-TTL:PT1H
BEGIN:VTIMEZONE
TZID:Europe/Madrid
BEGIN:DAYLIGHT
TZOFFSETFROM:+0100
TZOFFSETTO:+0200
TZNAME:CEST
DTSTART:20210328T010000
END:DAYLIGHT
BEGIN:STANDARD
TZOFFSETFROM:+0200
TZOFFSETTO:+0100
TZNAME:CET
DTSTART:20211031T010000
END:STANDARD
BEGIN:DAYLIGHT
TZOFFSETFROM:+0100
TZOFFSETTO:+0200
TZNAME:CEST
DTSTART:20220327T010000
END:DAYLIGHT
BEGIN:STANDARD
TZOFFSETFROM:+0200
TZOFFSETTO:+0100
TZNAME:CET
DTSTART:20221030T010000
END:STANDARD
BEGIN:DAYLIGHT
TZOFFSETFROM:+0100
TZOFFSETTO:+0200
TZNAME:CEST
DTSTART:20230326T010000
END:DAYLIGHT
BEGIN:STANDARD
TZOFFSETFROM:+0200
TZOFFSETTO:+0100
TZNAME:CET
DTSTART:20231029T010000
END:STANDARD
END:VTIMEZONE
BEGIN:VEVENT
DTSTART;TZID=Europe/Madrid:20221104T180000
DTEND;TZID=Europe/Madrid:20221104T200000
DTSTAMP:20260423T233927
CREATED:20221024T091845Z
LAST-MODIFIED:20221024T092630Z
UID:28753-1667584800-1667592000@www.cgtensenyament.cat
SUMMARY:Presentació a Tarragona: “Moviment llibertari i educació a Espanya (1901-1939)”
DESCRIPTION:El divendres 4 de novembre\, a les 19.00h\, farem una presentació amb l’autor i company Emili Cortavitarte\, del llibre “Movimiento libertario y educación en España (1901-1939)”.\nUs esperem a l’Ateneu Llibertari Alomà\, de Tarragona \nOrganitza:\nAteneu Llibertari Alomà \nCol·labora:\nFundació Salvador Seguí \n 
URL:https://www.cgtensenyament.cat/event/presentacio-a-tarragona-moviment-llibertari-i-educacio-a-espanya-1901-1939/
LOCATION:Ateneu Llibertari Alomà\, c/ Misser Sitges\, 9\, Tarragona\, Tarragona\, 43003
CATEGORIES:Presentació,Xerrada
ATTACH;FMTTYPE=image/jpeg:https://www.cgtensenyament.cat/wp-content/uploads/2022/10/moviment-llibertari-educacio-espanya-4nov2022.jpg
END:VEVENT
BEGIN:VEVENT
DTSTART;TZID=Europe/Madrid:20221117T173000
DTEND;TZID=Europe/Madrid:20221121T200000
DTSTAMP:20260423T233927
CREATED:20221022T093424Z
LAST-MODIFIED:20221113T154418Z
UID:28732-1668706200-1669060800@www.cgtensenyament.cat
SUMMARY:Novembre Llibertàri al Poblenou
DESCRIPTION:El Novembre Llibertari és una aposta que tirem endavant per fer palès que les pràctiques llibertàries són ben actuals i poden ser claus en el futur. \nPer a aprofundir-hi apostem per la lectura pausada\, i per això tindrem llibres variats de @DescontrolEd a cada esdeveniment. \nAlgunes Llibertàries del Poblenou\n@llibertariesp9 \n 
URL:https://www.cgtensenyament.cat/event/novembre-llibertari-al-poblenou/
LOCATION:Ateneu Popular Flor de Maig\, c/ Dr Trueta\, 195\, Barcelona\, Barcelona\, 08005
CATEGORIES:Presentació,Trobada,Xerrada
ATTACH;FMTTYPE=image/jpeg:https://www.cgtensenyament.cat/wp-content/uploads/2022/10/novembre-llibertari-poblenou-2022.jpg
END:VEVENT
BEGIN:VEVENT
DTSTART;TZID=Europe/Madrid:20221124T173000
DTEND;TZID=Europe/Madrid:20221124T190000
DTSTAMP:20260423T233927
CREATED:20221104T100759Z
LAST-MODIFIED:20221104T100759Z
UID:28927-1669311000-1669316400@www.cgtensenyament.cat
SUMMARY:Presentació del llibre "Voces Libres. Historia del movimiento libertario español"
DESCRIPTION:Presentació del llibre “Voces Libres. Historia del movimiento libertario español” amb l’autor\, Rafael Mestre Marín. \nDijous 24 de novembre\, 18.30h\, a CGT Catalunya.
URL:https://www.cgtensenyament.cat/event/presentacio-del-llibre-voces-libres-historia-del-movimiento-libertario-espanol/
LOCATION:CGT Catalunya\, c/ Burgos\, 59\, Barcelona\, 08014
CATEGORIES:Presentació
ATTACH;FMTTYPE=image/png:https://www.cgtensenyament.cat/wp-content/uploads/2022/11/Presentacio-amb-lautor.png
ORGANIZER;CN="Fundaci%C3%B3 Salvador Segu%C3%AD":MAILTO:fss.cat@fundacionssegui.org
END:VEVENT
END:VCALENDAR