BEGIN:VCALENDAR
VERSION:2.0
PRODID:-//CGT Ensenyament - ECPv6.15.20//NONSGML v1.0//EN
CALSCALE:GREGORIAN
METHOD:PUBLISH
X-ORIGINAL-URL:https://www.cgtensenyament.cat
X-WR-CALDESC:Esdeveniments per CGT Ensenyament
REFRESH-INTERVAL;VALUE=DURATION:PT1H
X-Robots-Tag:noindex
X-PUBLISHED-TTL:PT1H
BEGIN:VTIMEZONE
TZID:Europe/Madrid
BEGIN:DAYLIGHT
TZOFFSETFROM:+0100
TZOFFSETTO:+0200
TZNAME:CEST
DTSTART:20200329T010000
END:DAYLIGHT
BEGIN:STANDARD
TZOFFSETFROM:+0200
TZOFFSETTO:+0100
TZNAME:CET
DTSTART:20201025T010000
END:STANDARD
BEGIN:DAYLIGHT
TZOFFSETFROM:+0100
TZOFFSETTO:+0200
TZNAME:CEST
DTSTART:20210328T010000
END:DAYLIGHT
BEGIN:STANDARD
TZOFFSETFROM:+0200
TZOFFSETTO:+0100
TZNAME:CET
DTSTART:20211031T010000
END:STANDARD
BEGIN:DAYLIGHT
TZOFFSETFROM:+0100
TZOFFSETTO:+0200
TZNAME:CEST
DTSTART:20220327T010000
END:DAYLIGHT
BEGIN:STANDARD
TZOFFSETFROM:+0200
TZOFFSETTO:+0100
TZNAME:CET
DTSTART:20221030T010000
END:STANDARD
END:VTIMEZONE
BEGIN:VEVENT
DTSTART;TZID=Europe/Madrid:20211204T180000
DTEND;TZID=Europe/Madrid:20211204T200000
DTSTAMP:20260424T184040
CREATED:20211203T160318Z
LAST-MODIFIED:20211210T083734Z
UID:23849-1638640800-1638648000@www.cgtensenyament.cat
SUMMARY:Presentació: Moviment Llibertari i Educació a Espanya (1901-1939)
DESCRIPTION:Presentació del llibre: \nMoviment Llibertari i Educació a Espanya (1901-1939) \nAmb el seu autor Emili Cortavitarte \ndissabte 4 desembre 2021\, 18.00h \nOrganitza: La Frittel·la \nGER\nCarrer del Pi\, 25\nSant Pere de Ribes\nBarcelona \n 
URL:https://www.cgtensenyament.cat/event/presentacio-moviment-llibertari-i-educacio-a-espanya-1901-1939/
LOCATION:GER\, c/ del Pi\, 25\, Sant Pere de Ribes\, Barcelona\, 08810
CATEGORIES:Presentació
ATTACH;FMTTYPE=image/jpeg:https://www.cgtensenyament.cat/wp-content/uploads/2021/12/moviment-llibertari-educacio-4des2021.jpg
END:VEVENT
END:VCALENDAR