BEGIN:VCALENDAR
VERSION:2.0
PRODID:-//CGT Ensenyament - ECPv6.15.20//NONSGML v1.0//EN
CALSCALE:GREGORIAN
METHOD:PUBLISH
X-ORIGINAL-URL:https://www.cgtensenyament.cat
X-WR-CALDESC:Esdeveniments per CGT Ensenyament
REFRESH-INTERVAL;VALUE=DURATION:PT1H
X-Robots-Tag:noindex
X-PUBLISHED-TTL:PT1H
BEGIN:VTIMEZONE
TZID:Europe/Madrid
BEGIN:DAYLIGHT
TZOFFSETFROM:+0100
TZOFFSETTO:+0200
TZNAME:CEST
DTSTART:20200329T010000
END:DAYLIGHT
BEGIN:STANDARD
TZOFFSETFROM:+0200
TZOFFSETTO:+0100
TZNAME:CET
DTSTART:20201025T010000
END:STANDARD
BEGIN:DAYLIGHT
TZOFFSETFROM:+0100
TZOFFSETTO:+0200
TZNAME:CEST
DTSTART:20210328T010000
END:DAYLIGHT
BEGIN:STANDARD
TZOFFSETFROM:+0200
TZOFFSETTO:+0100
TZNAME:CET
DTSTART:20211031T010000
END:STANDARD
BEGIN:DAYLIGHT
TZOFFSETFROM:+0100
TZOFFSETTO:+0200
TZNAME:CEST
DTSTART:20220327T010000
END:DAYLIGHT
BEGIN:STANDARD
TZOFFSETFROM:+0200
TZOFFSETTO:+0100
TZNAME:CET
DTSTART:20221030T010000
END:STANDARD
END:VTIMEZONE
BEGIN:VEVENT
DTSTART;TZID=Europe/Madrid:20211215T183000
DTEND;TZID=Europe/Madrid:20211215T203000
DTSTAMP:20260424T184039
CREATED:20211210T090524Z
LAST-MODIFIED:20211210T101949Z
UID:23959-1639593000-1639600200@www.cgtensenyament.cat
SUMMARY:Presentació: Moviment llibertàri i educació a Espanya (1901-1939)
DESCRIPTION:Presentació del llibre: Moviment llibertàri i educació en Espanya (1901-1939)\, pel seu autor Emili Cortavitarte \nDimecres 15 desembre 2021\, a les 18.30h \nBiblioteca Bon Pastor\nc/ Estadella\, 64
URL:https://www.cgtensenyament.cat/event/presentacio-moviment-llibertari-educacio-espanya-1901-1939/
LOCATION:Biblioteca Bon Pastor\, c/ Estadella\, 64\, Barcelona\, 08030
CATEGORIES:Presentació,Xerrada
ATTACH;FMTTYPE=image/jpeg:https://www.cgtensenyament.cat/wp-content/uploads/2021/12/xerrada-moviment-llibertari-educacio-15des2021.jpg
ORGANIZER;CN="Fundaci%C3%B3 Salvador Segu%C3%AD":MAILTO:fss.cat@fundacionssegui.org
END:VEVENT
END:VCALENDAR