BEGIN:VCALENDAR
VERSION:2.0
PRODID:-//CGT Ensenyament - ECPv6.15.20//NONSGML v1.0//EN
CALSCALE:GREGORIAN
METHOD:PUBLISH
X-ORIGINAL-URL:https://www.cgtensenyament.cat
X-WR-CALDESC:Esdeveniments per CGT Ensenyament
REFRESH-INTERVAL;VALUE=DURATION:PT1H
X-Robots-Tag:noindex
X-PUBLISHED-TTL:PT1H
BEGIN:VTIMEZONE
TZID:Europe/Madrid
BEGIN:DAYLIGHT
TZOFFSETFROM:+0100
TZOFFSETTO:+0200
TZNAME:CEST
DTSTART:20210328T010000
END:DAYLIGHT
BEGIN:STANDARD
TZOFFSETFROM:+0200
TZOFFSETTO:+0100
TZNAME:CET
DTSTART:20211031T010000
END:STANDARD
BEGIN:DAYLIGHT
TZOFFSETFROM:+0100
TZOFFSETTO:+0200
TZNAME:CEST
DTSTART:20220327T010000
END:DAYLIGHT
BEGIN:STANDARD
TZOFFSETFROM:+0200
TZOFFSETTO:+0100
TZNAME:CET
DTSTART:20221030T010000
END:STANDARD
BEGIN:DAYLIGHT
TZOFFSETFROM:+0100
TZOFFSETTO:+0200
TZNAME:CEST
DTSTART:20230326T010000
END:DAYLIGHT
BEGIN:STANDARD
TZOFFSETFROM:+0200
TZOFFSETTO:+0100
TZNAME:CET
DTSTART:20231029T010000
END:STANDARD
END:VTIMEZONE
BEGIN:VEVENT
DTSTART;TZID=Europe/Madrid:20221124T173000
DTEND;TZID=Europe/Madrid:20221124T190000
DTSTAMP:20260424T011149
CREATED:20221104T100759Z
LAST-MODIFIED:20221104T100759Z
UID:28927-1669311000-1669316400@www.cgtensenyament.cat
SUMMARY:Presentació del llibre "Voces Libres. Historia del movimiento libertario español"
DESCRIPTION:Presentació del llibre “Voces Libres. Historia del movimiento libertario español” amb l’autor\, Rafael Mestre Marín. \nDijous 24 de novembre\, 18.30h\, a CGT Catalunya.
URL:https://www.cgtensenyament.cat/event/presentacio-del-llibre-voces-libres-historia-del-movimiento-libertario-espanol/
LOCATION:CGT Catalunya\, c/ Burgos\, 59\, Barcelona\, 08014
CATEGORIES:Presentació
ATTACH;FMTTYPE=image/png:https://www.cgtensenyament.cat/wp-content/uploads/2022/11/Presentacio-amb-lautor.png
ORGANIZER;CN="Fundaci%C3%B3 Salvador Segu%C3%AD":MAILTO:fss.cat@fundacionssegui.org
END:VEVENT
END:VCALENDAR