BEGIN:VCALENDAR
VERSION:2.0
PRODID:-//CGT Ensenyament - ECPv6.15.20//NONSGML v1.0//EN
CALSCALE:GREGORIAN
METHOD:PUBLISH
X-WR-CALNAME:CGT Ensenyament
X-ORIGINAL-URL:https://www.cgtensenyament.cat
X-WR-CALDESC:Esdeveniments per CGT Ensenyament
REFRESH-INTERVAL;VALUE=DURATION:PT1H
X-Robots-Tag:noindex
X-PUBLISHED-TTL:PT1H
BEGIN:VTIMEZONE
TZID:Europe/Madrid
BEGIN:DAYLIGHT
TZOFFSETFROM:+0100
TZOFFSETTO:+0200
TZNAME:CEST
DTSTART:20210328T010000
END:DAYLIGHT
BEGIN:STANDARD
TZOFFSETFROM:+0200
TZOFFSETTO:+0100
TZNAME:CET
DTSTART:20211031T010000
END:STANDARD
BEGIN:DAYLIGHT
TZOFFSETFROM:+0100
TZOFFSETTO:+0200
TZNAME:CEST
DTSTART:20220327T010000
END:DAYLIGHT
BEGIN:STANDARD
TZOFFSETFROM:+0200
TZOFFSETTO:+0100
TZNAME:CET
DTSTART:20221030T010000
END:STANDARD
BEGIN:DAYLIGHT
TZOFFSETFROM:+0100
TZOFFSETTO:+0200
TZNAME:CEST
DTSTART:20230326T010000
END:DAYLIGHT
BEGIN:STANDARD
TZOFFSETFROM:+0200
TZOFFSETTO:+0100
TZNAME:CET
DTSTART:20231029T010000
END:STANDARD
END:VTIMEZONE
BEGIN:VEVENT
DTSTART;TZID=Europe/Madrid:20221006T173000
DTEND;TZID=Europe/Madrid:20221006T190000
DTSTAMP:20260425T134331
CREATED:20220928T113746Z
LAST-MODIFIED:20220928T113746Z
UID:28337-1665077400-1665082800@www.cgtensenyament.cat
SUMMARY:Presentació a Granollers: "Josep Llunas\, La Tramontana i l'Anarquia en català"
DESCRIPTION:Presentació del llibre “Josep Llunas\, La Tramontana i l’Anarquia en català”\, amb el seu autor Jordi Martí Font \nDijous 6 d’octubre a les 18.30h \nAnònims\nCarrer Miquel Ricomà\, 57\nGranollers \nHo organitza: Anònims
URL:https://www.cgtensenyament.cat/event/presentacio-a-granollers-josep-llunas-la-tramontana-i-lanarquia-en-catala/
LOCATION:Anònims\, Granollers\, c/ Ricomà\, 57\, Granollers\, Barcelona\, 08402
CATEGORIES:Presentació,Xerrada
ATTACH;FMTTYPE=image/jpeg:https://www.cgtensenyament.cat/wp-content/uploads/2022/09/josep-llunas-presentacio-granollers-6oct2022.jpg
ORGANIZER;CN="An%C3%B2nims%2C Granollers":MAILTO:anonimsgr@gmail.com
END:VEVENT
BEGIN:VEVENT
DTSTART;TZID=Europe/Madrid:20221007T183000
DTEND;TZID=Europe/Madrid:20221007T200000
DTSTAMP:20260425T134331
CREATED:20220928T111931Z
LAST-MODIFIED:20220928T112513Z
UID:28331-1665167400-1665172800@www.cgtensenyament.cat
SUMMARY:Presentació a Lleida: "Josep Llunas\, La Tramontana i l'Anarquia en català"
DESCRIPTION:Presentació del llibre “Josep Llunas\, La Tramontana i l’Anarquia en català”\, amb el seu autor Jordi Martí Font \nDivendres 7 d’octubre a les 19.30h \nBiblioteca Anarquista Maria Rius\nCarrer de les Corts Catalanes\, 79\nLleida \nHo organitza: CGT Lleida
URL:https://www.cgtensenyament.cat/event/28331/
LOCATION:Biblioteca Anarquista Maria Rius\, c/ de les Corts Catalanes\, 79\, Lleida\, Lleida\, 25005
CATEGORIES:Presentació,Xerrada
ATTACH;FMTTYPE=image/jpeg:https://www.cgtensenyament.cat/wp-content/uploads/2022/09/josep-llunas-presentacio-lleida-7oct2022.jpg
END:VEVENT
BEGIN:VEVENT
DTSTART;TZID=Europe/Madrid:20221015T100000
DTEND;TZID=Europe/Madrid:20221015T120000
DTSTAMP:20260425T134331
CREATED:20220926T150644Z
LAST-MODIFIED:20220926T150644Z
UID:28271-1665828000-1665835200@www.cgtensenyament.cat
SUMMARY:Jornada Solidària 8MilMotius: per elles\, per nosaltres\, per totes
DESCRIPTION:El 15 d’octubre\, a #LaModel\, ens trobem per construir juntes el feminisme que acabi amb tots els seus privilegis.\nXerrades\, paradetes\, concerts… \nGuardeu-vos tot el dia! #Judici8mm\nL’11/1/2023 Judici al feminisme 3 anys de presó i 26.000€ a 7 dones per la vaga feminista del 8M de 2018!\n#8MilMotius \n 
URL:https://www.cgtensenyament.cat/event/jornada-solidaria-8milmotius-per-elles-per-nosaltres-per-totes/
LOCATION:La Modelo\, c/ d'Entença\, 155\, Barcelona\, Barcelona\, 08029
CATEGORIES:Reunió,Trobada,Xerrada
ATTACH;FMTTYPE=image/jpeg:https://www.cgtensenyament.cat/wp-content/uploads/2022/09/jornada-solidaria-8mil-motius-15oct2022.jpg
END:VEVENT
END:VCALENDAR