BEGIN:VCALENDAR
VERSION:2.0
PRODID:-//CGT Ensenyament - ECPv6.15.20//NONSGML v1.0//EN
CALSCALE:GREGORIAN
METHOD:PUBLISH
X-ORIGINAL-URL:https://www.cgtensenyament.cat
X-WR-CALDESC:Esdeveniments per CGT Ensenyament
REFRESH-INTERVAL;VALUE=DURATION:PT1H
X-Robots-Tag:noindex
X-PUBLISHED-TTL:PT1H
BEGIN:VTIMEZONE
TZID:Europe/Madrid
BEGIN:DAYLIGHT
TZOFFSETFROM:+0100
TZOFFSETTO:+0200
TZNAME:CEST
DTSTART:20220327T010000
END:DAYLIGHT
BEGIN:STANDARD
TZOFFSETFROM:+0200
TZOFFSETTO:+0100
TZNAME:CET
DTSTART:20221030T010000
END:STANDARD
BEGIN:DAYLIGHT
TZOFFSETFROM:+0100
TZOFFSETTO:+0200
TZNAME:CEST
DTSTART:20230326T010000
END:DAYLIGHT
BEGIN:STANDARD
TZOFFSETFROM:+0200
TZOFFSETTO:+0100
TZNAME:CET
DTSTART:20231029T010000
END:STANDARD
BEGIN:DAYLIGHT
TZOFFSETFROM:+0100
TZOFFSETTO:+0200
TZNAME:CEST
DTSTART:20240331T010000
END:DAYLIGHT
BEGIN:STANDARD
TZOFFSETFROM:+0200
TZOFFSETTO:+0100
TZNAME:CET
DTSTART:20241027T010000
END:STANDARD
END:VTIMEZONE
BEGIN:VEVENT
DTSTART;TZID=Europe/Madrid:20231102T183000
DTEND;TZID=Europe/Madrid:20231102T203000
DTSTAMP:20260424T170725
CREATED:20231105T232125Z
LAST-MODIFIED:20231105T232125Z
UID:32698-1698949800-1698957000@www.cgtensenyament.cat
SUMMARY:Documental: Casilda\, el eco de otros pasos\, a Granollers
DESCRIPTION:Documental: Casilda\, el eco de otros pasos \nProjecció presentada pel seu director Juan Felipe \nAnònims\nRicomà\, 57\nGranollers
URL:https://www.cgtensenyament.cat/event/documental-casilda-el-eco-de-otros-pasos-a-granollers/
LOCATION:Anònims\, Granollers\, c/ Ricomà\, 57\, Granollers\, Barcelona\, 08402
CATEGORIES:Presentació,Xerrada
ATTACH;FMTTYPE=image/jpeg:https://www.cgtensenyament.cat/wp-content/uploads/2023/11/casilda-anonims-granollers-2nov2023-jpg.webp
ORGANIZER;CN="An%C3%B2nims%2C Granollers":MAILTO:anonimsgr@gmail.com
END:VEVENT
BEGIN:VEVENT
DTSTART;TZID=Europe/Madrid:20231109T180000
DTEND;TZID=Europe/Madrid:20231109T180000
DTSTAMP:20260424T170725
CREATED:20231105T233753Z
LAST-MODIFIED:20231105T233753Z
UID:32705-1699552800-1699552800@www.cgtensenyament.cat
SUMMARY:Presentació de la Mesa Sindical de Pensionistes
DESCRIPTION:El proper dijous 9 de novembre a les 18h. presentem la Mesa Sindical de Pensionistes (de la que formem part la CGT de Catalunya\, CNT\, Co.bas\, COS\, IAC i Solidaritat Obrera) als locals de l’Espai Calàbria 66\, del Barri de Sant Antoni\, Barcelona.
URL:https://www.cgtensenyament.cat/event/presentacio-de-la-mesa-sindical-de-pensionistes/
LOCATION:Federació d’entitats Calabria\, c/ Calabria\, 66\, Barcelona\, Barcelona\, 08015
CATEGORIES:Presentació,Trobada,Xerrada
ATTACH;FMTTYPE=image/jpeg:https://www.cgtensenyament.cat/wp-content/uploads/2023/11/Mesa-Sindical-Pensionistes-9nov2023-jpg.webp
END:VEVENT
BEGIN:VEVENT
DTSTART;TZID=Europe/Madrid:20231111T180000
DTEND;TZID=Europe/Madrid:20231111T200000
DTSTAMP:20260424T170725
CREATED:20231103T094751Z
LAST-MODIFIED:20231105T234825Z
UID:32712-1699725600-1699732800@www.cgtensenyament.cat
SUMMARY:Presentació del llibre: Las Federaciones Regionales Anarquistes en España (1912-1919)
DESCRIPTION:Presentació del llibre: Las Federaciones Regionales Anarquistes en España (1912-1919) \nAmb Joan Zambrano\, historiador i autor del llibre\nDissabte\, 11 de novembre de 2023 a les 18 h \nAnònims\nc/ Ricomà\, 57\nGranollers
URL:https://www.cgtensenyament.cat/event/presentacio-llibre-las-federaciones-regionales-anarquistes-en-espana-1912-1919/
LOCATION:Anònims\, Granollers\, c/ Ricomà\, 57\, Granollers\, Barcelona\, 08402
CATEGORIES:Presentació,Xerrada
ATTACH;FMTTYPE=image/jpeg:https://www.cgtensenyament.cat/wp-content/uploads/2023/11/Federaciones-Regionales-Anarquistas-Granollers-11nov2023-jpg.webp
ORGANIZER;CN="An%C3%B2nims%2C Granollers":MAILTO:anonimsgr@gmail.com
END:VEVENT
BEGIN:VEVENT
DTSTART;TZID=Europe/Madrid:20231111T190000
DTEND;TZID=Europe/Madrid:20231111T210000
DTSTAMP:20260424T170725
CREATED:20231110T090319Z
LAST-MODIFIED:20231110T092526Z
UID:32814-1699729200-1699736400@www.cgtensenyament.cat
SUMMARY:Projecció 'Salvador Seguí: Història d'un anarcosindicalista'\, a la CGT Baix Llobregat
DESCRIPTION:Projecció del documental ‘Salvador Seguí: Història d’un anarcosindicalista’\nDissabte 11 de novembre\, 19.00 h.\nCGT Baix Llobregat\nCtra. d’Esplugues\, 46\, Cornellà
URL:https://www.cgtensenyament.cat/event/projeccio-salvador-segui-historia-dun-anarcosindicalista-a-la-cgt-baix-llobregat/
LOCATION:Federació Comarcal del Baix Llobregat\, Ctra d’Esplugues\, 46\, Cornellà de Llobregat\, Barcelona\, 08940
CATEGORIES:Presentació,Xerrada
ATTACH;FMTTYPE=image/jpeg:https://www.cgtensenyament.cat/wp-content/uploads/2023/11/salvador-segui-xerrada-baix-llobregat-11nov2023-jpg.webp
ORGANIZER;CN="CGT Baix Llobregat":MAILTO:correu@cgtbaixllobregat.cat
END:VEVENT
BEGIN:VEVENT
DTSTART;TZID=Europe/Madrid:20231123T180000
DTEND;TZID=Europe/Madrid:20231123T200000
DTSTAMP:20260424T170725
CREATED:20231121T101816Z
LAST-MODIFIED:20231121T102158Z
UID:32922-1700762400-1700769600@www.cgtensenyament.cat
SUMMARY:Agressions a la Universitat - Documental "Mujeres que no callan" i taula rodona\, URV\, Tarragona
DESCRIPTION:Agressions a la Universitat \nAquest dijous des de Deixa de Ser Una Illa-CGT Ensenyament\, emmarcat en els actes previs al #25N\, organitzem aquest acte sobre agressions a les universitats. \nProjecció del documental Mujeres que no callan i taula rodona amb: \n\nLidia Pérez: càmera del documental Mujeres que no callan\nMembres de MeTooUAB\nMerce Márquez: delegada de CGT a la UAB\n\n  \nDijous 23 de novembre 2023\, a les 18.00h \nAula 301\, Campus Catalunya\, Universitat Rovira i Virgili\nTarragona \nDeixa de Ser Una Illa\nCGT Ensenyament \n 
URL:https://www.cgtensenyament.cat/event/agressions-a-la-universitat-documental-mujeres-que-no-callan-i-taula-rodona-urv/
LOCATION:Campus Catalunya\, Universitat Rovira i Virgili\, Tarragona\, Tarragona
CATEGORIES:Presentació,Xerrada
ATTACH;FMTTYPE=image/jpeg:https://www.cgtensenyament.cat/wp-content/uploads/2023/11/agressions-universitat-cgt-23nov2023-jpg.webp
END:VEVENT
END:VCALENDAR