BEGIN:VCALENDAR
VERSION:2.0
PRODID:-//CGT Ensenyament - ECPv6.15.20//NONSGML v1.0//EN
CALSCALE:GREGORIAN
METHOD:PUBLISH
X-WR-CALNAME:CGT Ensenyament
X-ORIGINAL-URL:https://www.cgtensenyament.cat
X-WR-CALDESC:Esdeveniments per CGT Ensenyament
REFRESH-INTERVAL;VALUE=DURATION:PT1H
X-Robots-Tag:noindex
X-PUBLISHED-TTL:PT1H
BEGIN:VTIMEZONE
TZID:Europe/Madrid
BEGIN:DAYLIGHT
TZOFFSETFROM:+0100
TZOFFSETTO:+0200
TZNAME:CEST
DTSTART:20220327T010000
END:DAYLIGHT
BEGIN:STANDARD
TZOFFSETFROM:+0200
TZOFFSETTO:+0100
TZNAME:CET
DTSTART:20221030T010000
END:STANDARD
BEGIN:DAYLIGHT
TZOFFSETFROM:+0100
TZOFFSETTO:+0200
TZNAME:CEST
DTSTART:20230326T010000
END:DAYLIGHT
BEGIN:STANDARD
TZOFFSETFROM:+0200
TZOFFSETTO:+0100
TZNAME:CET
DTSTART:20231029T010000
END:STANDARD
BEGIN:DAYLIGHT
TZOFFSETFROM:+0100
TZOFFSETTO:+0200
TZNAME:CEST
DTSTART:20240331T010000
END:DAYLIGHT
BEGIN:STANDARD
TZOFFSETFROM:+0200
TZOFFSETTO:+0100
TZNAME:CET
DTSTART:20241027T010000
END:STANDARD
END:VTIMEZONE
BEGIN:VEVENT
DTSTART;TZID=Europe/Madrid:20231202T180000
DTEND;TZID=Europe/Madrid:20231202T203000
DTSTAMP:20260424T170802
CREATED:20231202T114816Z
LAST-MODIFIED:20231202T114839Z
UID:33346-1701540000-1701549000@www.cgtensenyament.cat
SUMMARY:Presentació: Joaquim Maurín\, una història del segle XX\, Granollers
DESCRIPTION:Presentació: Joaquim Maurín\, una història del segle XX \nReedició dels dos llibres clàssics del Joaquim Maurín: “Hacia la segunda Revolución” i “Les forces motrius de la Revolució” \nAmb Andy Durgan i Albert Portillo\, historiadors \nAnònims\, c/ Ricomà 57\nGranollers
URL:https://www.cgtensenyament.cat/event/presentacio-joaquim-maurin-una-historia-del-segle-xx-a-granollers/
LOCATION:Anònims\, Granollers\, c/ Ricomà\, 57\, Granollers\, Barcelona\, 08402
CATEGORIES:Presentació,Xerrada
ATTACH;FMTTYPE=image/jpeg:https://www.cgtensenyament.cat/wp-content/uploads/2023/12/maurin-anonims-2des2023-jpg.webp
ORGANIZER;CN="An%C3%B2nims%2C Granollers":MAILTO:anonimsgr@gmail.com
END:VEVENT
END:VCALENDAR