BEGIN:VCALENDAR
VERSION:2.0
PRODID:-//CGT Ensenyament - ECPv6.15.20//NONSGML v1.0//EN
CALSCALE:GREGORIAN
METHOD:PUBLISH
X-ORIGINAL-URL:https://www.cgtensenyament.cat
X-WR-CALDESC:Esdeveniments per CGT Ensenyament
REFRESH-INTERVAL;VALUE=DURATION:PT1H
X-Robots-Tag:noindex
X-PUBLISHED-TTL:PT1H
BEGIN:VTIMEZONE
TZID:Europe/Madrid
BEGIN:DAYLIGHT
TZOFFSETFROM:+0100
TZOFFSETTO:+0200
TZNAME:CEST
DTSTART:20200329T010000
END:DAYLIGHT
BEGIN:STANDARD
TZOFFSETFROM:+0200
TZOFFSETTO:+0100
TZNAME:CET
DTSTART:20201025T010000
END:STANDARD
BEGIN:DAYLIGHT
TZOFFSETFROM:+0100
TZOFFSETTO:+0200
TZNAME:CEST
DTSTART:20210328T010000
END:DAYLIGHT
BEGIN:STANDARD
TZOFFSETFROM:+0200
TZOFFSETTO:+0100
TZNAME:CET
DTSTART:20211031T010000
END:STANDARD
BEGIN:DAYLIGHT
TZOFFSETFROM:+0100
TZOFFSETTO:+0200
TZNAME:CEST
DTSTART:20220327T010000
END:DAYLIGHT
BEGIN:STANDARD
TZOFFSETFROM:+0200
TZOFFSETTO:+0100
TZNAME:CET
DTSTART:20221030T010000
END:STANDARD
END:VTIMEZONE
BEGIN:VEVENT
DTSTART;TZID=Europe/Madrid:20211105T170000
DTEND;TZID=Europe/Madrid:20211105T210000
DTSTAMP:20260424T023621
CREATED:20211031T200437Z
LAST-MODIFIED:20211104T140924Z
UID:22850-1636131600-1636146000@www.cgtensenyament.cat
SUMMARY:Trobada oberta de Treballadores del Sector Social al Berguedà
DESCRIPTION:Trobada oberta de Treballadores del Sector Social al Berguedà \nAl carrer del Balç 4\, Berga \n18h Assemblea dinamitzada i berenar \n21h Sopar (apunteu-vos per wahts a: 686540902) \nCGT Berguedà \n 
URL:https://www.cgtensenyament.cat/event/trobada-oberta-treballadores-sector-social-bergueda/
LOCATION:Sindicat d’Activitats Diverses de Berga\, c/ del Balç\, 4\, Berga\, Barcelona\, 08600
CATEGORIES:Trobada
ATTACH;FMTTYPE=image/jpeg:https://www.cgtensenyament.cat/wp-content/uploads/2021/10/trobada-educadors-socials-bergueda-e1636030937360.jpg
ORGANIZER;CN="CGT Bergued%C3%A0":MAILTO:ense.catcentral@cgtberga.org
END:VEVENT
BEGIN:VEVENT
DTSTART;TZID=Europe/Madrid:20211116T100000
DTEND;TZID=Europe/Madrid:20211116T120000
DTSTAMP:20260424T023621
CREATED:20211115T140935Z
LAST-MODIFIED:20211116T203748Z
UID:23357-1637056800-1637064000@www.cgtensenyament.cat
SUMMARY:Roda de premsa i concentració en suport a la Secció sindical de la CGT del Gimnàs Social Sant Pau
DESCRIPTION:Roda de premsa i concentració en suport a la Secció sindical de la CGT del Gimnàs Social Sant Pau \n Dimarts 16/11 \n 10h \nGimnàs Social Sant Pau. Ronda de Sant Pau\, 46. \nSec Necessitem el vostre suport!! \nTwitter: @elsantpausocial \n“Crisi interna al Gimnàs Social Sant Pau després de l’acord de compra” (Ara.cat)
URL:https://www.cgtensenyament.cat/event/roda-premsa-concentracio-suport-seccio-sindical-cgt-gimnas-social-sant-pau/
LOCATION:Gimnàs Social Sant Pau\, Ronda de Sant Pau\, 46\, Barcelona
CATEGORIES:Concentració
ATTACH;FMTTYPE=image/png:https://www.cgtensenyament.cat/wp-content/uploads/2021/03/cgt-sector-social-logo.png
END:VEVENT
BEGIN:VEVENT
DTSTART;TZID=Europe/Madrid:20211119T183000
DTEND;TZID=Europe/Madrid:20211119T213000
DTSTAMP:20260424T023621
CREATED:20211112T173813Z
LAST-MODIFIED:20211116T203710Z
UID:23238-1637346600-1637357400@www.cgtensenyament.cat
SUMMARY:Trobada oberta de treballadores del sector social a Berga
DESCRIPTION:Trobada oberta de treballadors del sector social a Berga\nDivendres 19 de novembre\n19.30h Assemblea dinamitzada\n21.00h Sopar (inscripció wasap 686540902) \n 
URL:https://www.cgtensenyament.cat/event/trobada-oberta-treballadors-sector-social-berga/
LOCATION:Sindicat d’Activitats Diverses de Berga\, c/ del Balç\, 4\, Berga\, Barcelona\, 08600
CATEGORIES:Trobada
ATTACH;FMTTYPE=image/jpeg:https://www.cgtensenyament.cat/wp-content/uploads/2021/11/sector-social-berga-19nov2021-e1636734989494.jpg
END:VEVENT
END:VCALENDAR