BEGIN:VCALENDAR
VERSION:2.0
PRODID:-//CGT Ensenyament - ECPv6.15.20//NONSGML v1.0//EN
CALSCALE:GREGORIAN
METHOD:PUBLISH
X-ORIGINAL-URL:https://www.cgtensenyament.cat
X-WR-CALDESC:Esdeveniments per CGT Ensenyament
REFRESH-INTERVAL;VALUE=DURATION:PT1H
X-Robots-Tag:noindex
X-PUBLISHED-TTL:PT1H
BEGIN:VTIMEZONE
TZID:Europe/Madrid
BEGIN:DAYLIGHT
TZOFFSETFROM:+0100
TZOFFSETTO:+0200
TZNAME:CEST
DTSTART:20220327T010000
END:DAYLIGHT
BEGIN:STANDARD
TZOFFSETFROM:+0200
TZOFFSETTO:+0100
TZNAME:CET
DTSTART:20221030T010000
END:STANDARD
BEGIN:DAYLIGHT
TZOFFSETFROM:+0100
TZOFFSETTO:+0200
TZNAME:CEST
DTSTART:20230326T010000
END:DAYLIGHT
BEGIN:STANDARD
TZOFFSETFROM:+0200
TZOFFSETTO:+0100
TZNAME:CET
DTSTART:20231029T010000
END:STANDARD
BEGIN:DAYLIGHT
TZOFFSETFROM:+0100
TZOFFSETTO:+0200
TZNAME:CEST
DTSTART:20240331T010000
END:DAYLIGHT
BEGIN:STANDARD
TZOFFSETFROM:+0200
TZOFFSETTO:+0100
TZNAME:CET
DTSTART:20241027T010000
END:STANDARD
END:VTIMEZONE
BEGIN:VEVENT
DTSTART;TZID=Europe/Madrid:20231216T160000
DTEND;TZID=Europe/Madrid:20231216T180000
DTSTAMP:20260422T111919
CREATED:20231212T131647Z
LAST-MODIFIED:20231212T131929Z
UID:33447-1702742400-1702749600@www.cgtensenyament.cat
SUMMARY:Concentració en suport treballadores en Vaga Residència Joan XXIII
DESCRIPTION:Residència pública Joan XXIII en Vaga indefinida \nLes treballadores de la residència Joan XXIII porten en vaga indefinida des del juny. Fem crida a tota l’organització a acudir a la concentració de suport el pròxim dissabte a les 16.00 h \nDissabte 16 desembre\, 16.00h\nParc del Turonet\nCerdanyola del Vallès
URL:https://www.cgtensenyament.cat/event/concentracio-en-suport-treballadores-en-vaga-residencia-joan-xxiii/
LOCATION:Parc del Turonet\, Cerdanyola\, Ronda de Cerdanyola\, 2T\, Cerdanyola del Vallès\, Barcelona\, 08290
ATTACH;FMTTYPE=image/jpeg:https://www.cgtensenyament.cat/wp-content/uploads/2023/12/Vaga-residencia-joanXXIII-16des2023-jpg.webp
ORGANIZER;CN="Sector Social CGT Ensenyament":MAILTO:sectorsocial@cgtcatalunya.cat
END:VEVENT
END:VCALENDAR